BEGIN:VCALENDAR
VERSION:2.0
PRODID:https://github.com/derhansen/sf_event_mgt
BEGIN:VTIMEZONE
TZID:CET
BEGIN:DAYLIGHT
TZOFFSETFROM:+0100
TZOFFSETTO:+0200
TZNAME:Central European Summer Time
DTSTART:20160327T020000
RRULE:FREQ=YEARLY;BYDAY=-1SU;BYMONTH=3
END:DAYLIGHT
BEGIN:STANDARD
TZOFFSETFROM:+0200
TZOFFSETTO:+0100
TZNAME:Central European Time
DTSTART:20161030T030000
RRULE:FREQ=YEARLY;BYDAY=-1SU;BYMONTH=10
END:STANDARD
END:VTIMEZONE
METHOD:PUBLISH
BEGIN:VEVENT
UID:3828-451@www.htw-dresden.de
CLASS: PUBLIC
SUMMARY:16. Dresdner Nutzfahrzeugtag
DESCRIPTION:<p>Am Freitag, 09.10.2026, findet an der Hochschule für Technik
  und Wirtschaft Dresden der 16. Dresdner Nutzfahrzeugtag statt. Dieser Prax
 istag hat sich an der HTW im jährlichen Rhythmus zu Beginn des Wintersemest
 ers fest etabliert. Interessante Vorträge von Praxispartnern sollen den nut
 zfahrzeugbegeisterten Studierenden die Bedeutung der Nutzfahrzeugtechnik un
 d deren breites Spektrum, welches vom LKW und deren Aufbauten über Spezialt
 ransportfahrzeuge bis hin zu Bau-, Land- und Sondermaschinen reicht, vermit
 teln.</p>\n\n<p><strong>Traditionell gibt es 5 Fachvorträge im PAB der Hoch
 schule (9.00Uhr - 12.30Uhr). Ab 13.00Uhr findet die große Fahrzeugpräsentat
 ion mit einigen Vorführungen auf dem Kfz-Prüffeld der HTW-Dresden (Techniku
 m Fahrzeugtechnik, Uhlandstraße 25) statt. Ein Mittagsimbiss für angemeldet
 e Teilnehmer ist gesichert.</strong></p>\n\n<p>Studierende melden sich bitt
 e auf der <a href="https://bildungsportal.sachsen.de/opal/auth/RepositoryEn
 try/2129657858/CourseNode/83635699618563" target="_blank">Bildungsplattform
  Opal</a> an. Externe Gäste nutzen bitte folgende E-Mail-Adresse: <a href="
 mailto:nutzfahrzeugtag@htw-dresden.de">nutzfahrzeugtag@htw-dresden.de</a></
 p>\n\n<p><strong>Ansprechpartner:</strong><br />HTW Dresden, Bereich Fahrze
 ugtechnik, Prof. Wittmer, Friedrich-List-Platz 1, 01069 Dresden</p>
DTSTAMP:20251030T102241
DTSTART:20261009T090000
DTEND:20261009T163000
END:VEVENT
END:VCALENDAR