BEGIN:VCALENDAR
VERSION:2.0
PRODID:https://github.com/derhansen/sf_event_mgt
BEGIN:VTIMEZONE
TZID:CET
BEGIN:DAYLIGHT
TZOFFSETFROM:+0100
TZOFFSETTO:+0200
TZNAME:Central European Summer Time
DTSTART:20160327T020000
RRULE:FREQ=YEARLY;BYDAY=-1SU;BYMONTH=3
END:DAYLIGHT
BEGIN:STANDARD
TZOFFSETFROM:+0200
TZOFFSETTO:+0100
TZNAME:Central European Time
DTSTART:20161030T030000
RRULE:FREQ=YEARLY;BYDAY=-1SU;BYMONTH=10
END:STANDARD
END:VTIMEZONE
METHOD:PUBLISH
BEGIN:VEVENT
UID:3897-3003@www.htw-dresden.de
CLASS: PUBLIC
SUMMARY:Abitur und dann? Berufs- und Studienorientierung am Beispiel des Gymnasiums Dresden-Klotzsche und der HTW Dresden
DESCRIPTION:<p>Diese Veranstaltung ist Teil der Reihe: MINT vernetzt - Aust
 ausch zwischen Schule, Hochschule und Gesellschaft und richtet sich an Lehr
 kräfte der MINT-Fächer.</p>\n\n<p>Sylvia Liebscher, Lehrerin am Gymnasium D
 resden-Klotzsche, und die Studienberaterinnen der HTW Dresden ) informieren
 , wie es nach dem Schulabschluss weitergehen kann. Sie beantworten Fragen w
 ie: Welche Hochschularten gibt es? Worin unterscheiden sich diese? Dabei ze
 igen sie Beispiele und Formate, die Studien- und Berufsorientierung als ein
 en langfristigen und vielfältigen Prozess im Schulalter lebendig machen.</p
 >\n\n<p>Raum: folgt</p>\n\n<p>Auf Wunsch kann eine Teilnahmebestätigung aus
 gestellt werden.<br /><br />&nbsp;</p>
LOCATION:Hochschule für Technik und Wirtschaft Dresden (HTW Dresden) Zentralgebäude Friedrich-List-Platz 1 01069 Dresden
DTSTAMP:20251205T111204
DTSTART:20260604T150000
DTEND:20260604T163000
END:VEVENT
END:VCALENDAR