BEGIN:VCALENDAR
VERSION:2.0
PRODID:https://github.com/derhansen/sf_event_mgt
BEGIN:VTIMEZONE
TZID:CET
BEGIN:DAYLIGHT
TZOFFSETFROM:+0100
TZOFFSETTO:+0200
TZNAME:Central European Summer Time
DTSTART:20160327T020000
RRULE:FREQ=YEARLY;BYDAY=-1SU;BYMONTH=3
END:DAYLIGHT
BEGIN:STANDARD
TZOFFSETFROM:+0200
TZOFFSETTO:+0100
TZNAME:Central European Time
DTSTART:20161030T030000
RRULE:FREQ=YEARLY;BYDAY=-1SU;BYMONTH=10
END:STANDARD
END:VTIMEZONE
METHOD:PUBLISH
BEGIN:VEVENT
UID:3671-439@www.htw-dresden.de
CLASS: PUBLIC
SUMMARY:How to? Fördermittelprogramme für Existenzgründer finden und erfolgreich beantragen
DESCRIPTION:<p>Das Thema <strong>Fördermittel</strong> wird nicht umsonst u
 mgangssprachlich im <strong>Dschungel</strong> verortet, denn man findet si
 ch als Gründer:in dort teilweise schlecht zurecht. <strong>Technologiegründ
 ungsstipendium</strong>, <strong>Förderung von Gründungsberatung</strong> o
 der <strong>Markteinführung innovativer Produkte </strong>sind nur einige w
 enige der Gründungsförderungsprogramme, die Gründer:innen auf dem Weg in di
 e Selbständigkeit zur Verfügung stehen.</p>\n\n<p>Welche Programme ihr kenn
 en solltet und wie es im Einzelnen um die Rahmenbedingungen, Fördergegebenh
 eiten, Förderhöhe und Zugangsvoraussetzungen steht, vermittelt euch dieses 
 Seminar.</p>\n\n<p><strong>Anhand von Praxisbeispielen stellt euch unser Gr
 ündungsexperte Heinrich Leuschner die Einsatzmöglichkeiten aller aktuellen 
 Fördermittel vor, damit seid ihr in der Lage seid:</strong></p>\n\n<ul><li>
 Fördermittel gezielt zu suchen und auf eurer Anliegen hin zu prüfen</li><li
 >Fördermittel erfolgreich zu beantragen und zu beziehen</li></ul>\n\n<p><st
 rong>Zielgruppe:</strong> Das Seminar richtet sich an Existenzgründer (Frei
 berufler:innen, Gewerbetreibende, ausgründende Wissenschaftler:innen) und i
 st kostenfrei. Teilnahmeberechtigt sind Studierende, Alumni, Wissenschaftle
 r:innen und Beschäftigte der HTWD und der <a href="https://www.dresden-exis
 ts.de/uber-dresden-exists/fokus/" target="_blank" rel="noreferrer"><u>Partn
 ereinrichtungen im Verbund von dresdenIexists.</u></a></p>\n\n<p><strong>De
 n Link zum Online-Seminar erhaltet ihr nach der Anmeldung.</strong></p>
LOCATION:Digital über Zoom
DTSTAMP:20251202T111451
DTSTART:20251209T153000
DTEND:20251209T170000
END:VEVENT
END:VCALENDAR