BEGIN:VCALENDAR
VERSION:2.0
PRODID:https://github.com/derhansen/sf_event_mgt
BEGIN:VTIMEZONE
TZID:CET
BEGIN:DAYLIGHT
TZOFFSETFROM:+0100
TZOFFSETTO:+0200
TZNAME:Central European Summer Time
DTSTART:20160327T020000
RRULE:FREQ=YEARLY;BYDAY=-1SU;BYMONTH=3
END:DAYLIGHT
BEGIN:STANDARD
TZOFFSETFROM:+0200
TZOFFSETTO:+0100
TZNAME:Central European Time
DTSTART:20161030T030000
RRULE:FREQ=YEARLY;BYDAY=-1SU;BYMONTH=10
END:STANDARD
END:VTIMEZONE
METHOD:PUBLISH
BEGIN:VEVENT
UID:271-441@www.htw-dresden.de
CLASS: PUBLIC
SUMMARY:Allgemeine Studienberatung auf der VOCATIUM Dresden
DESCRIPTION:<p>Treffen Sie die Allgemeine Studienberatung der HTW Dresden b
 ei der Vocatium in der MESSE Dresden und stellen Sie alle Fragen zum Studiu
 m!</p>\n\n<p>Am 09. und 10. Juni 2026 von 08:30 bis 15:00 Uhr, Eintritt fre
 i, Anmeldung erforderlich</p>\n\n<p>Alle Informationen zur Anmeldung unter:
  <a href="https://www.vocatium.de/messen/info/vocatium-dresden">https://www
 .vocatium.de/messen/info/vocatium-dresden</a>&nbsp;</p>\n\n<p>Wir freuen un
 s auf Ihren Besuch!</p>
DTSTAMP:20251015T133252
DTSTART:20260609T083000
DTEND:20260610T150000
END:VEVENT
END:VCALENDAR