BEGIN:VCALENDAR
VERSION:2.0
PRODID:https://github.com/derhansen/sf_event_mgt
BEGIN:VTIMEZONE
TZID:CET
BEGIN:DAYLIGHT
TZOFFSETFROM:+0100
TZOFFSETTO:+0200
TZNAME:Central European Summer Time
DTSTART:20160327T020000
RRULE:FREQ=YEARLY;BYDAY=-1SU;BYMONTH=3
END:DAYLIGHT
BEGIN:STANDARD
TZOFFSETFROM:+0200
TZOFFSETTO:+0100
TZNAME:Central European Time
DTSTART:20161030T030000
RRULE:FREQ=YEARLY;BYDAY=-1SU;BYMONTH=10
END:STANDARD
END:VTIMEZONE
METHOD:PUBLISH
BEGIN:VEVENT
UID:2755-442@www.htw-dresden.de
CLASS: PUBLIC
SUMMARY:Application Process in Germany (engl.)
DESCRIPTION:<p>You probably heart of typical application documents in Germa
 ny. Do you also know how to make these documents a means of transport for t
 he information employers are interested in? That’s what you will learn in t
 his workshop. We also talk about the typical structure of CV and cover lett
 er, relevant content, what documents to include and how to „pimp“ without d
 istending.<br />Please be prepared to work in your own application document
 s.</p>\n\n<p><strong>Online |&nbsp;BigBlueButton</strong></p>\n\n<p><strong
 >Speaker:</strong> Birgit Brand, Dipl. Communicaton Psychologist / Trainer,
  Career Service TUD</p>\n\n<p>Registration: <a href="https://tu-dresden.de/
 studium/im-studium/career-service/termine/for-international-students-applic
 ation-process-in-germany-engl?set_language=en"><strong>For international st
 udents: Application Process in Germany (engl.) — Studies — TU Dresden</stro
 ng></a></p>\n\n<p>or mailto <a href="mailto:Birgit.Brand@tu-dresden.de" tit
 le="Birgit Brandt">Birgit.Brand@tu-dresden.de</a></p>
LOCATION:Online
DTSTAMP:20260325T111052
DTSTART:20260504T150000
DTEND:20260504T183000
END:VEVENT
END:VCALENDAR