BEGIN:VCALENDAR
VERSION:2.0
PRODID:https://github.com/derhansen/sf_event_mgt
BEGIN:VTIMEZONE
TZID:CET
BEGIN:DAYLIGHT
TZOFFSETFROM:+0100
TZOFFSETTO:+0200
TZNAME:Central European Summer Time
DTSTART:20160327T020000
RRULE:FREQ=YEARLY;BYDAY=-1SU;BYMONTH=3
END:DAYLIGHT
BEGIN:STANDARD
TZOFFSETFROM:+0200
TZOFFSETTO:+0100
TZNAME:Central European Time
DTSTART:20161030T030000
RRULE:FREQ=YEARLY;BYDAY=-1SU;BYMONTH=10
END:STANDARD
END:VTIMEZONE
METHOD:PUBLISH
BEGIN:VEVENT
UID:4023-442@www.htw-dresden.de
CLASS: PUBLIC
SUMMARY:Arbeitsmarkt Sachsen für Ingenieur- und Naturwissenschaftler:innen
DESCRIPTION:<p>Du möchtest nach dem Studium in Sachsen arbeiten, bist dir a
 ber unsicher, ob du eine interessante Stelle mit Entwicklungsmöglichkeiten 
 findest? Im Kurzvortrag entdeckst du Branchen und Arbeitsmarktsektoren, die
  zu deinem Studiengang passen, und lernst Bewerbungsstrategien kennen, mit 
 denen du den für dich passenden Arbeitgeber findest.</p>\n\n<p>Link zum Kon
 ferenzraum wird einen Tag vor der Veranstaltung an die angemeldeten Teilneh
 mer*innen gesandt.&nbsp;</p>\n\n<p>Eine verbindliche Anmeldung im Veranstal
 tungskalender ist zwingend erforderlich!</p>\n\n<p>Die Veranstaltung wird a
 ngeboten vom Career Service der TU Dresden und steht auch HTWD-Studierenden
  und Absolvent*innen im Zuge der Kooperation mit dem HTWD-Career Service ko
 stenfrei offen.</p>\n\n\n\n
LOCATION:Online
DTSTAMP:20260305T153058
DTSTART:20260429T153000
DTEND:20260429T164500
END:VEVENT
END:VCALENDAR