BEGIN:VCALENDAR
VERSION:2.0
PRODID:https://github.com/derhansen/sf_event_mgt
BEGIN:VTIMEZONE
TZID:CET
BEGIN:DAYLIGHT
TZOFFSETFROM:+0100
TZOFFSETTO:+0200
TZNAME:Central European Summer Time
DTSTART:20160327T020000
RRULE:FREQ=YEARLY;BYDAY=-1SU;BYMONTH=3
END:DAYLIGHT
BEGIN:STANDARD
TZOFFSETFROM:+0200
TZOFFSETTO:+0100
TZNAME:Central European Time
DTSTART:20161030T030000
RRULE:FREQ=YEARLY;BYDAY=-1SU;BYMONTH=10
END:STANDARD
END:VTIMEZONE
METHOD:PUBLISH
BEGIN:VEVENT
UID:4031-439@www.htw-dresden.de
CLASS: PUBLIC
SUMMARY:beginnerinnen – Netzwerktreffen für Gründerinnen &amp; gründungsinteressierte Frauen
DESCRIPTION:<p>Das erste <strong>beginnerinnen</strong>-Treffen 2026 steht 
 an – und wir freuen uns sehr auf einen besonderen Netzwerkabend in inspirie
 render Atmosphäre.</p>\n\n<p>Dieses Mal sind wir zu Gast im Café von <stron
 g>Munay Alfajores</strong>. Gründerin <strong>Bettina Zimmermann</strong> g
 ibt uns einen persönlichen Einblick in ihre Gründungsgeschichte: vom ersten
  Gedanken bis zur Umsetzung, mit all den Herausforderungen, Entscheidungen 
 und Learnings, die auf diesem Weg dazugehören.</p>\n\n<p>Wie immer steht be
 i den <i>beginnerinnen</i> der <strong>offene Austausch und das Vernetzen</
 strong> im Mittelpunkt. Egal, ob Ihr noch über eine Gründung nachdenkt, ger
 ade erst gestartet seid oder schon länger selbstständig seid – das Treffen 
 bietet Raum für ehrliche Gespräche, gegenseitige Unterstützung und neue Kon
 takte.</p>\n\n<p>Freut Euch auf einen inspirierenden Abend, persönliche Ein
 blicke und wertvollen Austausch unter Frauen aus dem Gründungsumfeld. Wir f
 reuen uns auf Euch!</p>\n\n<p>Anmeldung bitte <a href="https://www.dresden-
 exists.de/events/beginnerinnen-netzwerktreffen-fuer-gruenderinnen-gruendung
 sinteressierte-frauen/" title="beginnerinnen">hier</a></p>
LOCATION:Munay Alfajores Cafe
DTSTAMP:20260311T145341
DTSTART:20260414T163000
DTEND:20260414T190000
END:VEVENT
END:VCALENDAR