BEGIN:VCALENDAR
VERSION:2.0
PRODID:https://github.com/derhansen/sf_event_mgt
BEGIN:VTIMEZONE
TZID:CET
BEGIN:DAYLIGHT
TZOFFSETFROM:+0100
TZOFFSETTO:+0200
TZNAME:Central European Summer Time
DTSTART:20160327T020000
RRULE:FREQ=YEARLY;BYDAY=-1SU;BYMONTH=3
END:DAYLIGHT
BEGIN:STANDARD
TZOFFSETFROM:+0200
TZOFFSETTO:+0100
TZNAME:Central European Time
DTSTART:20161030T030000
RRULE:FREQ=YEARLY;BYDAY=-1SU;BYMONTH=10
END:STANDARD
END:VTIMEZONE
METHOD:PUBLISH
BEGIN:VEVENT
UID:4020-3003@www.htw-dresden.de
CLASS: PUBLIC
SUMMARY:Exkursion zu SachsenEnergie AG
DESCRIPTION:<p>Als größter Kommunalversorger Ostdeutschlands schafft <stron
 g>SachsenEnergie</strong> mit Investitionen in zuverlässige Infrastruktur, 
 dem Vorantreiben erneuerbarer Energien und regionalen Engagement die Basis 
 für beste Lebensqualität in Sachsen.</p>\n\n<p>Moderne Energieversorgung is
 t für SachsenEnergie Teamarbeit: rund 4.000 Mitarbeitende der Unternehmensg
 ruppe engagieren sich täglich gemeinsam für eine zeitgemäße Infrastruktur u
 nd die Energiedienstleistungen der Zukunft.</p>\n\n<p>Mach was für dich. Un
 d die Zukunft. Komm als Praktikant*in, Student*in oder Trainee ins #TeamSac
 hsenEnergie. Leg den Grundstein für deine Karriere und steige schon während
  deiner Lernphase oder danach ein. Informiere dich über die vielfältigen Mö
 glichkeiten, Karriere im <a href="https://www.sachsenenergie.de/wps/portal/
 energie/cms/menu_main/karriere">#TeamSachsenEnergie</a> zu machen.</p>\n\n\
 n\n<p><strong>Ihre Ansprechpartnerin für die Exkursionteilnahme:</strong></
 p>\n\n<p>Simone Claus<br />Koordinatorin Studienorientierung<br />greentech
 year@htw-dresden.de<br />T + 49 351 462 2329</p>\n\n<p>Weitere Informatione
 n zum <strong>Green Tech Year</strong> finden Sie auf unserer <a href="t3:/
 /page?uid=7530">Website</a>.</p>\n\n\n\n<p><strong>Anmeldefrist ist der 3. 
 Mai 2026.</strong></p>
LOCATION:SachsenEnergie AG
DTSTAMP:20260325T125424
DTSTART:20260507T153000
DTEND:20260507T170000
END:VEVENT
END:VCALENDAR