BEGIN:VCALENDAR
VERSION:2.0
PRODID:https://github.com/derhansen/sf_event_mgt
BEGIN:VTIMEZONE
TZID:CET
BEGIN:DAYLIGHT
TZOFFSETFROM:+0100
TZOFFSETTO:+0200
TZNAME:Central European Summer Time
DTSTART:20160327T020000
RRULE:FREQ=YEARLY;BYDAY=-1SU;BYMONTH=3
END:DAYLIGHT
BEGIN:STANDARD
TZOFFSETFROM:+0200
TZOFFSETTO:+0100
TZNAME:Central European Time
DTSTART:20161030T030000
RRULE:FREQ=YEARLY;BYDAY=-1SU;BYMONTH=10
END:STANDARD
END:VTIMEZONE
METHOD:PUBLISH
BEGIN:VEVENT
UID:3823-448@www.htw-dresden.de
CLASS: PUBLIC
SUMMARY:Betreuung von Haus- und Abschlussarbeiten
DESCRIPTION:<p>Wissenschaftliche Arbeiten sind oftmals ein wichtiger Bestan
 dteil akademischer Prüfungsprozesse sowie ein Instrument zur Einführung der
  Studierenden in das wissenschaftliche Arbeiten. Die Qualität studentischer
  Arbeiten entspricht aber oft nicht den Erwartungen der Lehrenden. Das lieg
 t manchmal daran, dass die intendierten Lernergebnisse nicht transparent ge
 nug vermittelt werden und die Studierenden die an sie gestellten Anforderun
 gen nicht genügend erkennen. So wird die Korrektur vieler Arbeiten zu einer
  zeitraubenden und nervenzehrenden Angelegenheit. Der Workshop stellt die B
 etreuung und die effektive Korrektur solcher Arbeiten in den Mittelpunkt. Z
 iel ist es, Lehrende dabei zu unterstützen, einen kompetenzorientierten Bet
 reuungsprozess und eine effiziente Bewertung von Haus- und Abschlussarbeite
 n umzusetzen.<br /><br />Der Workshop umfasst insgesamt 12 Arbeitseinheiten
  (AE). Davon entfallen 8 AE auf einen Ganztages-Onlineworkshop und 4 AE auf
  die Bearbeitung einer individuellen Transferaufgabe mit Feedback der Dozen
 tin im Anschluss an den Workshop.</p>\n\n\n\n<p>Kontakt: <a href="mailto:an
 tonella.ruggieri@htw-dresden.de">Dr. Antonella Ruggieri</a></p>
LOCATION:Online-Veranstaltung
DTSTAMP:20251104T112450
DTSTART:20260624T100000
DTEND:20260624T170000
END:VEVENT
END:VCALENDAR