BEGIN:VCALENDAR
VERSION:2.0
PRODID:https://github.com/derhansen/sf_event_mgt
BEGIN:VTIMEZONE
TZID:CET
BEGIN:DAYLIGHT
TZOFFSETFROM:+0100
TZOFFSETTO:+0200
TZNAME:Central European Summer Time
DTSTART:20160327T020000
RRULE:FREQ=YEARLY;BYDAY=-1SU;BYMONTH=3
END:DAYLIGHT
BEGIN:STANDARD
TZOFFSETFROM:+0200
TZOFFSETTO:+0100
TZNAME:Central European Time
DTSTART:20161030T030000
RRULE:FREQ=YEARLY;BYDAY=-1SU;BYMONTH=10
END:STANDARD
END:VTIMEZONE
METHOD:PUBLISH
BEGIN:VEVENT
UID:2727-4130@www.htw-dresden.de
CLASS: PUBLIC
SUMMARY:Blutspende an der HTWD
DESCRIPTION:<p>Am &nbsp;Mittwoch, den 10. Juni zwischen 10:00 - 14:00 Uhr l
 ädt das Deutsche Rote Kreuz erneut zum Blutspenden ein (Foyer Campus Dresde
 n, Friedrich-List-Platz 1)<br />Wir bedanken uns ausdrücklich bei jedem Spe
 nder und jeder Spenderin für Ihr soziales Engagement!</p>\n\n<p>Bitte nutze
 n Sie die Möglichkeit der Terminreservierung unter:</p>\n\n<p><a href="http
 s://terminreservierung.blutspende-nordost.de/oeffentliche-spendeorte/01069Z
 1/termine?reservation_context=eyJkb25hdGlvbl90eXBlIjoiYmQiLCJkYXRlIjoiMjAyN
 C0xMC0wOSJ9">https://terminreservierung.blutspende-nordost.de/oeffentliche-
 spendeorte/01069Z1/termine?reservation_context=eyJkb25hdGlvbl90eXBlIjoiYmQi
 LCJkYXRlIjoiMjAyNC0xMC0wOSJ9</a>&nbsp;</p>\n\n<p>oder über die QR-Codes auf
  den Aushängen im Haus.<br />Sie können aber auch ohne Termin vorbei kommen
 !</p>\n\n<p>Bitte bringen Sie Ihren Personalausweis mit.<br />Trinken (min.
  1,5l) und Essen (nicht länger als zwei Stunden) Sie vorher ausreichend.&nb
 sp;</p>\n\n<p>Weitere Infos zur Vorbereitung vor der Blutspende finden Sie 
 auf der folgenden Internetseite:&nbsp;</p>\n\n<p><a href="http://www.blutsp
 ende.de">www.blutspende.de</a></p>\n\n<p><a href="https://www.blutspende-no
 rdost.de/blutspende/informationen-ueber-die-blutspende">https://www.blutspe
 nde-nordost.de/blutspende/informationen-ueber-die-blutspende</a></p>
LOCATION:HTW Dresden, PAB/Z-Gebäude
DTSTAMP:20260112T084749
DTSTART:20260610T100000
DTEND:20260610T140000
END:VEVENT
END:VCALENDAR