BEGIN:VCALENDAR
VERSION:2.0
PRODID:https://github.com/derhansen/sf_event_mgt
BEGIN:VTIMEZONE
TZID:CET
BEGIN:DAYLIGHT
TZOFFSETFROM:+0100
TZOFFSETTO:+0200
TZNAME:Central European Summer Time
DTSTART:20160327T020000
RRULE:FREQ=YEARLY;BYDAY=-1SU;BYMONTH=3
END:DAYLIGHT
BEGIN:STANDARD
TZOFFSETFROM:+0200
TZOFFSETTO:+0100
TZNAME:Central European Time
DTSTART:20161030T030000
RRULE:FREQ=YEARLY;BYDAY=-1SU;BYMONTH=10
END:STANDARD
END:VTIMEZONE
METHOD:PUBLISH
BEGIN:VEVENT
UID:3329-3003@www.htw-dresden.de
CLASS: PUBLIC
SUMMARY:Campustag HTWD
DESCRIPTION:<p>Komm an die HTW Dresden um ...</p>\n\n<ul><li>unsere Studier
 enden kennenzulernen und dich von den Study Guides über den Campus führen z
 u lassen</li><li>auf einer Rallye durch die Hochschule Labore und Fakultäte
 n kennenzulernen</li><li>Einblicke in Labore, Werkstätten und Vorlesungen z
 u bekommen</li><li>dich über unsere vielfältigen Studienmöglichkeiten zu in
 formieren.</li></ul>\n\n<p>Wir freuen uns, dich an der HTW Dresden willkomm
 en zu heißen.</p>\n\n<p>Das genaue Programm wird im April <a href="t3://pag
 e?uid=5558">hier</a> veröffentlicht.</p>
DTSTAMP:20251124T133647
DTSTART:20260509T090000
DTEND:20260509T130000
END:VEVENT
END:VCALENDAR