BEGIN:VCALENDAR
VERSION:2.0
PRODID:https://github.com/derhansen/sf_event_mgt
BEGIN:VTIMEZONE
TZID:CET
BEGIN:DAYLIGHT
TZOFFSETFROM:+0100
TZOFFSETTO:+0200
TZNAME:Central European Summer Time
DTSTART:20160327T020000
RRULE:FREQ=YEARLY;BYDAY=-1SU;BYMONTH=3
END:DAYLIGHT
BEGIN:STANDARD
TZOFFSETFROM:+0200
TZOFFSETTO:+0100
TZNAME:Central European Time
DTSTART:20161030T030000
RRULE:FREQ=YEARLY;BYDAY=-1SU;BYMONTH=10
END:STANDARD
END:VTIMEZONE
METHOD:PUBLISH
BEGIN:VEVENT
UID:3795-7696@www.htw-dresden.de
CLASS: PUBLIC
SUMMARY:Coffee-Hour – Teil I: „Karriereweg HAW-Professur“
DESCRIPTION:<p>Das kurzweilige<strong> Format der Virtuellen Kaffeepause</s
 trong> richtet sich an alle Personen, die sich für eine Professur an einer 
 Hochschule für angewandte Wissenschaften (HAW) interessieren.</p>\n\n<p>In 
 Teil I der Coffee-Hour-Reihe am 15.04.2026 informiert das Projektteam von „
 prof@HTWD“ zum <strong>„Karriereweg HAW-Professur“</strong> und erläutert d
 abei u. a. die Besonderheiten in Abgrenzung zur Uniprofessur und informiert
  über die Berufungsvoraussetzungen.</p>\n\n<p>Im Anschluss an den fachliche
 n Input (ca. 30 Min.) haben Sie als Teilnehmer*innen die Möglichkeit ihre F
 ragen zu stellen und in den Austausch mit den Referent*innen und anderen Te
 ilnehmer*innen zu treten.</p>\n\n<p>Die Reihe wird fortgesetzt am 06.05.202
 6 mit dem Thema <a href="https://www.htw-dresden.de/hochschule/aktuelles/ve
 ranstaltungen/detailseite/coffee-hour-teil-ii-anforderungen-an-die-bewerbun
 gsunterlagen-auf-eine-haw-professur-1-1-2"><strong>„Anforderungen an die Be
 werbungsunterlagen auf eine HAW-Professur“</strong></a><strong>.</strong></
 p>\n\n<p>Mit dem Thema <a href="https://www.htw-dresden.de/hochschule/aktue
 lles/veranstaltungen/detailseite/coffee-hour-teil-iii-wie-ueberzeuge-ich-im
 -probevortrag-und-im-persoenlichen-gespraech-mit-der-berufungskommission-1-
 1-2"><strong>„Wie überzeuge ich in der Probevortrag und im persönlichen Ges
 präch mit der Berufungskommission?“</strong></a> wird die Coffee-Hour-Reihe
  am 10.06.2026 inhaltlich abgeschlossen.</p>\n\n<p>Merken Sie sich diese Te
 rmine bei Interesse gern vor bzw. melden Sie sich bereits jetzt über den Ve
 ranstaltungskalender an!</p>\n\n<p>Die Veranstaltung ist unentgeltlich und 
 findet in deutscher Sprache statt.</p>\n\n<p>Bitte bestätigen Sie Ihre Anme
 ldung in der Bestätigungsmail, da diese ohne Bestätigung systembedingt nach
  drei Tagen gelöscht wird.</p>\n\n<p>Auch wenn alle Plätze für die Veransta
 ltung bereits vergeben sind, können Sie sich noch anmelden. In diesem Fall 
 werden Sie automatisch auf die Warteliste gesetzt. Sollten Plätze frei werd
 en, informieren wir Sie spätestens eine Woche vor Veranstaltungsbeginn, ob 
 Sie teilnehmen können.</p>\n\n<p>Alle angemeldeten Teilnehmer*innen erhalte
 n ca. 1 Woche vor der Veranstaltung eine E-Mail mit dem Link zum Online-Ver
 anstaltungsraum.</p>\n\n<p>Bei Fragen nehmen Sie gern <strong>Kontakt </str
 ong>zum <strong>Projektteam </strong>auf, per Mail an: <a href="mailto:prof
 @htw-dresden.de">prof@htw-dresden.de</a></p>
LOCATION:Online (BBB)
DTSTAMP:20251002T165448
DTSTART:20260415T160000
DTEND:20260415T164500
END:VEVENT
END:VCALENDAR