BEGIN:VCALENDAR
VERSION:2.0
PRODID:https://github.com/derhansen/sf_event_mgt
BEGIN:VTIMEZONE
TZID:CET
BEGIN:DAYLIGHT
TZOFFSETFROM:+0100
TZOFFSETTO:+0200
TZNAME:Central European Summer Time
DTSTART:20160327T020000
RRULE:FREQ=YEARLY;BYDAY=-1SU;BYMONTH=3
END:DAYLIGHT
BEGIN:STANDARD
TZOFFSETFROM:+0200
TZOFFSETTO:+0100
TZNAME:Central European Time
DTSTART:20161030T030000
RRULE:FREQ=YEARLY;BYDAY=-1SU;BYMONTH=10
END:STANDARD
END:VTIMEZONE
METHOD:PUBLISH
BEGIN:VEVENT
UID:2778-442@www.htw-dresden.de
CLASS: PUBLIC
SUMMARY:Consultation Hour / Peer-Learning regarding the video tutorial / How recruiters read your application
DESCRIPTION:<p>In the English video tutorial - provided 2 weeks before the 
 consultation - you get to know why the application process in Germany needs
  special peparation, and why is it interesting to know how German HR Manage
 rs read your application. You need to get to the point and persuade with sh
 ort and concise content because HR on average spend 2-3 minutes with your a
 pplication. If you additionally want to learn how to „read between the line
 s“ in job advertisements and how to decode it, this tutorial is made for yo
 u. Melanie will be happy to answer your questions in the counsultation hour
  after you have been watching the tutorial.</p>\n\n<p><strong>Video tutoria
 l | Zoom | </strong>tutorial link after registration</p>\n\n<p><strong>Tuto
 r:</strong> Melanie Ludwig</p>\n\n<p><strong>Registration:&nbsp;</strong>ma
 ilto<strong>&nbsp;</strong><a href="mailto:Birgit.Brand@tu-dresden.de" targ
 et="_blank" title="email Birgit Brand">Birgit.Brand@tu-dresden.de</a>&nbsp;
 </p>\n\n<p>This workshop is an offer to international students within the p
 roject&nbsp;<a href="https://www.htw-dresden.de/studium/career-service/coac
 hing/scoutingdd-project" target="_blank">ScoutingDD</a>, a cooperative proj
 ect of HTW Dresden and TU Dresden funded by Fachkräfteallianz Dresden.</p>
DTSTAMP:20231103T092937
DTSTART:20231201T093000
DTEND:20231201T103000
END:VEVENT
END:VCALENDAR