BEGIN:VCALENDAR
VERSION:2.0
PRODID:https://github.com/derhansen/sf_event_mgt
BEGIN:VTIMEZONE
TZID:CET
BEGIN:DAYLIGHT
TZOFFSETFROM:+0100
TZOFFSETTO:+0200
TZNAME:Central European Summer Time
DTSTART:20160327T020000
RRULE:FREQ=YEARLY;BYDAY=-1SU;BYMONTH=3
END:DAYLIGHT
BEGIN:STANDARD
TZOFFSETFROM:+0200
TZOFFSETTO:+0100
TZNAME:Central European Time
DTSTART:20161030T030000
RRULE:FREQ=YEARLY;BYDAY=-1SU;BYMONTH=10
END:STANDARD
END:VTIMEZONE
METHOD:PUBLISH
BEGIN:VEVENT
UID:3838-449@www.htw-dresden.de
CLASS: PUBLIC
SUMMARY:Das Open Identity Summit
DESCRIPTION:<p><strong>Welcome to Open Identity Summit 2026!</strong></p>\n
 \n<p>The aim of Open Identity Summit 2026 (OID2026) is to link practical ex
 periences and requirements with academic innovations. Focus areas will be <
 strong>Research and Applications </strong>in the area of <strong>Identity M
 anagement, Trust Services, Open Source, End-to-End Encryption, </strong>and
  <strong>Cloud Computing</strong>.&nbsp;</p>\n\n<p>The summit takes place <
 strong>May 21–22, 2026 at University of Applied Sciences Dresden (HTW Dresd
 en) in Dresden, Germany. </strong>The HTW Dresden, with around 4,800 studen
 ts, is the second largest university in Dresden. Internationally, Dresden i
 s renowned both as a city of culture, with numerous iconic landmarks, and a
 s a major hub for technology and science, hosting nine universities and a d
 ense network of research institutions.</p>\n\n<p>The <a href="https://www.h
 tw-dresden.de/hochschule/aktuelles/veranstaltungen/open-identity-summit/cal
 l-for-papers">call for papers</a> is online now.</p>
LOCATION:Z 355
DTSTAMP:20251111T114113
DTSTART:20260521T090000
DTEND:20260522T200000
END:VEVENT
END:VCALENDAR