BEGIN:VCALENDAR
VERSION:2.0
PRODID:https://github.com/derhansen/sf_event_mgt
BEGIN:VTIMEZONE
TZID:CET
BEGIN:DAYLIGHT
TZOFFSETFROM:+0100
TZOFFSETTO:+0200
TZNAME:Central European Summer Time
DTSTART:20160327T020000
RRULE:FREQ=YEARLY;BYDAY=-1SU;BYMONTH=3
END:DAYLIGHT
BEGIN:STANDARD
TZOFFSETFROM:+0200
TZOFFSETTO:+0100
TZNAME:Central European Time
DTSTART:20161030T030000
RRULE:FREQ=YEARLY;BYDAY=-1SU;BYMONTH=10
END:STANDARD
END:VTIMEZONE
METHOD:PUBLISH
BEGIN:VEVENT
UID:4097-442@www.htw-dresden.de
CLASS: PUBLIC
SUMMARY:Dein Profil. Dein Shortcut zum Job.
DESCRIPTION:<p>Upgrade zum Dies Academicus: Profi-Foto. Smarter Prompt. Dei
 n neues iPad?</p>\n\n<p><strong>Wann?</strong> 3. Juni 2026 10:30 – 14:00 U
 hr<br /><strong>Wo? </strong>Infostand „Career Service“ im Innenhof hinter 
 dem Zentralgebäude (Hauptcampus)</p>\n\n<p><strong>Gratis Shooting:</strong
 > Professionelles Bewerbungsfoto direkt vor Ort - exklusiv für alle HTWD-St
 udierenden mit aktivem <a href="https://jobboerse.htw-dresden.de/infos-fuer
 -jobsuchende/">Jobbörsen-Profil</a>.<br /><strong>iPad Verlosung:</strong> 
 Registrieren, Bewerberprofil am Infostand checken lassen &amp; mit etwas Gl
 ück gewinnen! (exklusiv für HTWD-Studierende)<br /><strong>KI-Power: </stro
 ng>Hol dir dein KI-Prompt-Give-away</p>\n\n<p>Besuch uns zum Dies Academicu
 s am Infostand und hol Dir Dein Upgrade!</p>\n\n<p>Wir freuen uns auf Euch!
 </p>\n\n<p>Das Team vom HTWD Career Service</p>
LOCATION:Zentralgebäude der HTW-Dresden
DTSTAMP:20260416T124608
DTSTART:20260603T103000
DTEND:20260603T140000
END:VEVENT
END:VCALENDAR