BEGIN:VCALENDAR
VERSION:2.0
PRODID:https://github.com/derhansen/sf_event_mgt
BEGIN:VTIMEZONE
TZID:CET
BEGIN:DAYLIGHT
TZOFFSETFROM:+0100
TZOFFSETTO:+0200
TZNAME:Central European Summer Time
DTSTART:20160327T020000
RRULE:FREQ=YEARLY;BYDAY=-1SU;BYMONTH=3
END:DAYLIGHT
BEGIN:STANDARD
TZOFFSETFROM:+0200
TZOFFSETTO:+0100
TZNAME:Central European Time
DTSTART:20161030T030000
RRULE:FREQ=YEARLY;BYDAY=-1SU;BYMONTH=10
END:STANDARD
END:VTIMEZONE
METHOD:PUBLISH
BEGIN:VEVENT
UID:4024-448@www.htw-dresden.de
CLASS: PUBLIC
SUMMARY:Didaktische Stulle #37: Praktikum2Go: Experimentelles Lernen mit Smartphone-Sensorik zwischen Mobilfunk und Satellitenkommunikation
DESCRIPTION:<p>Die nächste didaktische Stulle findet am 22.04.2026 im Raum 
 S 219 statt. Prof. Julia Engelbrecht wird einen Kurzvortrag mit dem Titel <
 i>Praktikum2Go: Experimentelles Lernen mit Smartphone-Sensorik zwischen Mob
 ilfunk und Satellitenkommunikation </i>halten.</p>\n\n<p>Nach dem Vortrag w
 ird es wieder die Möglichkeit geben, in den Austausch zu kommen. Die Verans
 taltung beginnt um 12:45 Uhr, der Vortrag 13:05 Uhr. Wir freuen uns wie imm
 er auf Ihre Teilnahme!</p>\n\n<p><strong>Kontakt:</strong></p>\n\n<p><a hre
 f="mailto:antonella.ruggieri@htw-dresden.de?subject=Didaktische%20Stulle%20
 %2338">Antonella Ruggieri</a></p>
LOCATION:S 219
DTSTAMP:20260306T114613
DTSTART:20260422T124500
DTEND:20260422T134500
END:VEVENT
END:VCALENDAR