BEGIN:VCALENDAR
VERSION:2.0
PRODID:https://github.com/derhansen/sf_event_mgt
BEGIN:VTIMEZONE
TZID:CET
BEGIN:DAYLIGHT
TZOFFSETFROM:+0100
TZOFFSETTO:+0200
TZNAME:Central European Summer Time
DTSTART:20160327T020000
RRULE:FREQ=YEARLY;BYDAY=-1SU;BYMONTH=3
END:DAYLIGHT
BEGIN:STANDARD
TZOFFSETFROM:+0200
TZOFFSETTO:+0100
TZNAME:Central European Time
DTSTART:20161030T030000
RRULE:FREQ=YEARLY;BYDAY=-1SU;BYMONTH=10
END:STANDARD
END:VTIMEZONE
METHOD:PUBLISH
BEGIN:VEVENT
UID:4025-448@www.htw-dresden.de
CLASS: PUBLIC
SUMMARY:Didaktische Stulle #38: Hands-on: Ein verfahrenstechnisches Praktikum neu gedacht
DESCRIPTION:<p>Die nächste didaktische Stulle findet am 24.06.2026 im Raum 
 S 219 statt. Prof. Stefan Haase wird einen Kurzvortrag mit dem Titel <i>Han
 ds-on: Ein verfahrenstechnisches Praktikum neu gedacht </i>halten.</p>\n\n<
 p>Nach dem Vortrag wird es wieder die Möglichkeit geben, in den Austausch z
 u kommen. Die Veranstaltung beginnt um 12:45 Uhr, der Vortrag 13:05 Uhr. Wi
 r freuen uns wie immer auf Ihre Teilnahme!</p>\n\n<p>Kontakt:</p>\n\n<p><a 
 href="mailto:antonella.ruggieri@htw-dresden.de?subject=Didaktische%20Stulle
 %20%2338">Antonella Ruggieri</a></p>
LOCATION:S 219
DTSTAMP:20260306T115149
DTSTART:20260624T124500
DTEND:20260624T134500
END:VEVENT
END:VCALENDAR