BEGIN:VCALENDAR
VERSION:2.0
PRODID:https://github.com/derhansen/sf_event_mgt
BEGIN:VTIMEZONE
TZID:CET
BEGIN:DAYLIGHT
TZOFFSETFROM:+0100
TZOFFSETTO:+0200
TZNAME:Central European Summer Time
DTSTART:20160327T020000
RRULE:FREQ=YEARLY;BYDAY=-1SU;BYMONTH=3
END:DAYLIGHT
BEGIN:STANDARD
TZOFFSETFROM:+0200
TZOFFSETTO:+0100
TZNAME:Central European Time
DTSTART:20161030T030000
RRULE:FREQ=YEARLY;BYDAY=-1SU;BYMONTH=10
END:STANDARD
END:VTIMEZONE
METHOD:PUBLISH
BEGIN:VEVENT
UID:4007-448@www.htw-dresden.de
CLASS: PUBLIC
SUMMARY:Die KI löst die Aufgaben Ihrer Studierenden? Passen Sie Ihr Prüfungskonzept mit uns an!
DESCRIPTION:<p>In diesem Präsenzworkshop erhalten Sie kompakte Einblicke in
  die aktuellen Herausforderungen für Prüfungen in einer Welt mit generative
 n KI-Tools. Gemeinsam reflektieren wir bestehende Prüfungsformate, prüfen d
 eren Zukunftsfähigkeit und entwickeln Ideen für Anpassungen und innovative 
 Prüfungsformen. Neben theoretischen Impulsen liegt der Fokus auf praktische
 r Arbeit: Sie analysieren Ihre eigene Prüfungspraxis, diskutieren Good-Prac
 tice-Beispiele. Zudem erfahren Sie, wie Sie Studierende für einen verantwor
 tungsvollen Umgang mit KI sensibilisieren und wie Sie selbst KI-Tools gezie
 lt zur Unterstützung bei der Entwicklung von Prüfungsaufgaben nutzen können
 .<br /><br />Das Format eignet sich besonders, um mit Kolleginnen und Kolle
 gen auch aus anderen Fachbereichen ins Gespräch zu kommen und sich zu verne
 tzen. Ziel ist es, sich beim Umgang mit diesem wichtigen Thema gegenseitig 
 zu unterstützen und voneinander zu lernen.</p>\n\n<p>Kontakt: <a href="mail
 to:antonella.ruggieri@htw-dresden.de"><u>Dr. Antonella Ruggieri</u></a></p>
LOCATION:Hochschule Mittweida
DTSTAMP:20260331T084440
DTSTART:20260703T093000
DTEND:20260703T143000
END:VEVENT
END:VCALENDAR