BEGIN:VCALENDAR
VERSION:2.0
PRODID:https://github.com/derhansen/sf_event_mgt
BEGIN:VTIMEZONE
TZID:CET
BEGIN:DAYLIGHT
TZOFFSETFROM:+0100
TZOFFSETTO:+0200
TZNAME:Central European Summer Time
DTSTART:20160327T020000
RRULE:FREQ=YEARLY;BYDAY=-1SU;BYMONTH=3
END:DAYLIGHT
BEGIN:STANDARD
TZOFFSETFROM:+0200
TZOFFSETTO:+0100
TZNAME:Central European Time
DTSTART:20161030T030000
RRULE:FREQ=YEARLY;BYDAY=-1SU;BYMONTH=10
END:STANDARD
END:VTIMEZONE
METHOD:PUBLISH
BEGIN:VEVENT
UID:3705-2122@www.htw-dresden.de
CLASS: PUBLIC
SUMMARY:Dr. Stammtisch zum EuroDoc Day: Kreative Prinzipien – Wege zu relevanten und wirtschaftlich tragfähigen Inventionen
DESCRIPTION:<p>Wie lassen sich Inventionsprozesse systematisch gestalten, u
 m technisch überzeugende und wirtschaftlich relevante Lösungen hervorzubrin
 gen? Dr. Thomas Servay präsentiert die von ihm aus der TRIZ‑Methodik abgele
 iteten <i>Kreativen Prinzipien</i>. Durch die funktionale Analyse eines Sys
 tems werden Struktur und Wirkzusammenhänge präziser erfassbar, sodass gezie
 lt Optimierungspotenziale identifiziert werden können. Diese lassen sich mi
 thilfe der Kreativen Prinzipien in belastbare Lösungsansätze überführen.</p
 >\n\n<p>Die Anwendung des Ansatzes wird exemplarisch anhand des Entwicklung
 sziels bioabbaubarer Sensoren für Holz demonstriert.</p>\n\n\n\n<h3><strong
 >Autorenvita</strong></h3>\n\n<p>Thomas Servay wurde 1963 in Pforzheim gebo
 ren und lebt heute in Heidelberg. 1984 begann er sein Chemiestudium an der 
 Universität Stuttgart. Ein einjähriger Studienaufenthalt an der University 
 of Cincinnati (USA) führte 1988 zum Master of Science. 1993 promovierte er 
 am Max-Planck-Institut für Polymerforschung und absolvierte anschließend ei
 n Jahr als Postdoktorand an der University of Florida.</p>\n\n<p>1995 trat 
 er in die Polymerforschung der BASF AG ein. Ab 1999 war er im Bereich Markt
 forschung und Innovationsmanagement tätig. Von 2000 bis 2005 verantwortete 
 er die Wertschöpfungskette Industrielle Produkte bei der BASF-Tochter Plant
  Science.</p>\n\n<p>Seit 2015 widmet er sich nebenberuflich dem Schreiben u
 nd erforscht insbesondere kreative Prinzipien sowie deren disziplinübergrei
 fende Anwendung.</p>\n\n\n\n<p>Um Anmeldung wird gebeten!</p>\n\n\n\n
LOCATION:S 430
DTSTAMP:20260317T103549
DTSTART:20260513T090000
DTEND:20260513T103000
END:VEVENT
END:VCALENDAR