BEGIN:VCALENDAR
VERSION:2.0
PRODID:https://github.com/derhansen/sf_event_mgt
BEGIN:VTIMEZONE
TZID:CET
BEGIN:DAYLIGHT
TZOFFSETFROM:+0100
TZOFFSETTO:+0200
TZNAME:Central European Summer Time
DTSTART:20160327T020000
RRULE:FREQ=YEARLY;BYDAY=-1SU;BYMONTH=3
END:DAYLIGHT
BEGIN:STANDARD
TZOFFSETFROM:+0200
TZOFFSETTO:+0100
TZNAME:Central European Time
DTSTART:20161030T030000
RRULE:FREQ=YEARLY;BYDAY=-1SU;BYMONTH=10
END:STANDARD
END:VTIMEZONE
METHOD:PUBLISH
BEGIN:VEVENT
UID:3229-445@www.htw-dresden.de
CLASS: PUBLIC
SUMMARY:Dresdner Bauseminar
DESCRIPTION:<p>Juri Kjulbassoff von Ed. Züblin AG, Direktion Ost, Bereich S
 achsen berichtet über Digitales Controlling von Megaprojekten.</p>\n\n<p>Da
 s Dresdner Bauseminar wird von der Fakultät Bauingenieurwesen veranstaltet 
 und findet seit 1993 regelmäßig statt. Die kontinuierliche Weiterbildung un
 d der Erfahrungsaustausch zu neuen Entwicklungen sollen gefördert werden.</
 p>\n\n<p>Zu den <a href="t3://file?uid=51848">Veranstaltungen des Dresdner 
 Bauseminars</a> laden wir Sie, Studierende, ProfessorInnen, MitarbeiterInne
 n von Planungsbüros und Behörden, VertreterInnen der Bauindustrie und die i
 nteressierte Öffentlichkeit ganz herzlich ein. Die Teilnahme an allen Vortr
 ägen ist kostenfrei, auf Wunsch wird eine Bescheinigung über die Weiterbild
 ungsmaßnahme ausgestellt. Studierende der Fakultät Bauingenieurwesen können
  sich die Teilnahme am Bauseminar für das Studium Integrale anerkennen lass
 en.</p>\n\n<p>Die Veranstaltung wird hybrid angeboten. Sie können in Präsen
 z in Z107 teilnehmen oder den <a href="https://nc.zaft-dresden.de/apps/bbb/
 b/4F6jEPowipPeC2M5" target="_blank">Stream</a> online verfolgen.</p>\n\n<p>
 Ansprechpartner: <a href="mailto:ddbauseminar@htw-dresden.de">Prof. Thomas 
 Bösche</a></p>
LOCATION:Z107
DTSTAMP:20260415T081304
DTSTART:20260415T171500
DTEND:20260415T184500
END:VEVENT
END:VCALENDAR