BEGIN:VCALENDAR
VERSION:2.0
PRODID:https://github.com/derhansen/sf_event_mgt
BEGIN:VTIMEZONE
TZID:CET
BEGIN:DAYLIGHT
TZOFFSETFROM:+0100
TZOFFSETTO:+0200
TZNAME:Central European Summer Time
DTSTART:20160327T020000
RRULE:FREQ=YEARLY;BYDAY=-1SU;BYMONTH=3
END:DAYLIGHT
BEGIN:STANDARD
TZOFFSETFROM:+0200
TZOFFSETTO:+0100
TZNAME:Central European Time
DTSTART:20161030T030000
RRULE:FREQ=YEARLY;BYDAY=-1SU;BYMONTH=10
END:STANDARD
END:VTIMEZONE
METHOD:PUBLISH
BEGIN:VEVENT
UID:4055-449@www.htw-dresden.de
CLASS: PUBLIC
SUMMARY:Dresdner Datenbankforum
DESCRIPTION:<p>Dr. Anja Reusch, Technion, Haifa:<br />"Interpretability for
  Generative Information Retrieval"</p>\n\n<p><a href="https://www.dresdner-
 datenbankforum.de/anstehende-vortr%C3%A4ge" title="anstehende Vorträge" tar
 get="_blank">anstehende Vorträge</a></p>
LOCATION:Raum Z 312
DTSTAMP:20260317T102838
DTSTART:20260617T170000
DTEND:20260617T200000
END:VEVENT
END:VCALENDAR