BEGIN:VCALENDAR
VERSION:2.0
PRODID:https://github.com/derhansen/sf_event_mgt
BEGIN:VTIMEZONE
TZID:CET
BEGIN:DAYLIGHT
TZOFFSETFROM:+0100
TZOFFSETTO:+0200
TZNAME:Central European Summer Time
DTSTART:20160327T020000
RRULE:FREQ=YEARLY;BYDAY=-1SU;BYMONTH=3
END:DAYLIGHT
BEGIN:STANDARD
TZOFFSETFROM:+0200
TZOFFSETTO:+0100
TZNAME:Central European Time
DTSTART:20161030T030000
RRULE:FREQ=YEARLY;BYDAY=-1SU;BYMONTH=10
END:STANDARD
END:VTIMEZONE
METHOD:PUBLISH
BEGIN:VEVENT
UID:3765-448@www.htw-dresden.de
CLASS: PUBLIC
SUMMARY:Education4Change #4: Fundament des Wandels – Bauingenieurausbildung im Zeitalter planetarer Grenzen
DESCRIPTION:<p>Wie können wir Studierende befähigen, kritisch zu hinterfrag
 en, vorausschauend zu denken und komplexe Probleme einer von Krisen geprägt
 en Welt zu lösen? Und welche Rolle spielt Hochschulbildung für nachhaltige 
 Entwicklung (HBNE) dabei?</p>\n\n<p>Das Austauschformat bringt Lehrende ver
 schiedener Disziplinen zusammen, eröffnet neue Perspektiven und inspiriert 
 durch Good-Practice-Beispiele aus der Hochschullehre.</p>\n\n<p>Bringen Sie
  gerne Ihr Mittagessen mit!</p>\n\n<p>Am 16.01.2026 um 13 Uhr gibt Oliver&n
 bsp;André&nbsp;Wege&nbsp;(TU&nbsp;Dresden,&nbsp;Institut&nbsp;für&nbsp;Mass
 ivbau) Einblicke in seine Lehrpraxis und zeigt, wie zukünftige Bauingenieur
 :innen auf ihren Berufsalltag im Kontext planetarer Belastungsgrenzen vorbe
 reitet werden können. Anschließend möchten wir uns über Ihre Ideen und Erfa
 hrungen austauschen.</p>\n\n<p>Wir freuen uns auf Ihre Teilnahme!</p>\n\n<p
 >Link zum Online-Raum: <a href="https://tu-dresden.zoom-x.de/j/65151865540?
 pwd=KqAs8VByF1AY5hV61BHHqVKQUvQKdB.1" target="_blank">https://tu-dresden.zo
 om-x.de/j/65151865540?pwd=KqAs8VByF1AY5hV61BHHqVKQUvQKdB.1</a></p>\n\n<p>Ko
 ntakt: <a href="mailto:veronika.beier@htw-dresden.de">Veronika Beier</a></p
 >\n\n\n\n
LOCATION:Online (Zoom)
DTSTAMP:20251211T152631
DTSTART:20260116T130000
DTEND:20260116T140000
END:VEVENT
END:VCALENDAR