BEGIN:VCALENDAR
VERSION:2.0
PRODID:https://github.com/derhansen/sf_event_mgt
BEGIN:VTIMEZONE
TZID:CET
BEGIN:DAYLIGHT
TZOFFSETFROM:+0100
TZOFFSETTO:+0200
TZNAME:Central European Summer Time
DTSTART:20160327T020000
RRULE:FREQ=YEARLY;BYDAY=-1SU;BYMONTH=3
END:DAYLIGHT
BEGIN:STANDARD
TZOFFSETFROM:+0200
TZOFFSETTO:+0100
TZNAME:Central European Time
DTSTART:20161030T030000
RRULE:FREQ=YEARLY;BYDAY=-1SU;BYMONTH=10
END:STANDARD
END:VTIMEZONE
METHOD:PUBLISH
BEGIN:VEVENT
UID:4018-442@www.htw-dresden.de
CLASS: PUBLIC
SUMMARY:Erfolgreich bewerben mit Behinderungen: Strategien für Ihren nächsten Karriereschritt
DESCRIPTION:<p>Die beliebte iXNet-Veranstaltung „<strong>Tipps und Hinweise
  zur Stellensuche und Bewerbung mit Behinderungen</strong>“ unterstützt Arb
 eitssuchende und angehende akademische Absolventinnen und Absolventen dabei
 , den Bewerbungsprozess strategisch und selbstbewusst zu gestalten.</p>\n\n
 <p>Im Fokus stehen passgenaue Stellensuche, überzeugende Bewerbungsunterlag
 en sowie der gezielte Einsatz von Netzwerken – etwa der Kontakt zur Schwerb
 ehindertenvertretung.</p>\n\n<p>Ziel ist es, individuelle Stärken sichtbar 
 zu machen und mögliche Barrieren professionell zu adressieren.</p>\n\n<p>Da
 s interaktive Online-Format findet am <strong>Dienstag, den 14. April 2026<
 /strong> von <strong>13:00&nbsp;</strong>bis <strong>14:30 Uhr</strong> via
  <strong>Microsoft Teams</strong> statt.&nbsp;</p>\n\n<p>Die Veranstaltung 
 richtet sich insbesondere an Menschen mit Behinderungen, die kurz vor Studi
 enabschluss stehen oder die sich in der Phase der Arbeitssuche befinden.</p
 >\n\n<p>Die Teilnehmendenzahl ist auf 30 Personen begrenzt.&nbsp;&nbsp;</p>
 \n\n<p>Anmeldeschluss ist der <strong><u>31.03.2026</u></strong>.</p>\n\n\n
 \n<p><a href="https://www.ixnet-projekt.de/SharedDocs/Termine/DE/tipps_u_hi
 nweise_140426.html" title="Link zur Veranstaltungsinformationsseite">Mehr I
 nformationen zur Veranstaltung</a> (IXnet-projekt.de)</p>
LOCATION:Online
DTSTAMP:20260303T141658
DTSTART:20260414T130000
DTEND:20260414T143000
END:VEVENT
END:VCALENDAR