BEGIN:VCALENDAR
VERSION:2.0
PRODID:https://github.com/derhansen/sf_event_mgt
BEGIN:VTIMEZONE
TZID:CET
BEGIN:DAYLIGHT
TZOFFSETFROM:+0100
TZOFFSETTO:+0200
TZNAME:Central European Summer Time
DTSTART:20160327T020000
RRULE:FREQ=YEARLY;BYDAY=-1SU;BYMONTH=3
END:DAYLIGHT
BEGIN:STANDARD
TZOFFSETFROM:+0200
TZOFFSETTO:+0100
TZNAME:Central European Time
DTSTART:20161030T030000
RRULE:FREQ=YEARLY;BYDAY=-1SU;BYMONTH=10
END:STANDARD
END:VTIMEZONE
METHOD:PUBLISH
BEGIN:VEVENT
UID:3883-3003@www.htw-dresden.de
CLASS: PUBLIC
SUMMARY:Erprobte Formate zur Gestaltung schulischer MINT-Projekte ergänzend zum Fachunterricht
DESCRIPTION:<p>Diese Veranstaltung ist Teil der Reihe: MINT vernetzt - Aust
 ausch zwischen Schule, Hochschule und Gesellschaft und richtet sich an Lehr
 kräfte der MINT-Fächer.</p>\n\n<p>Robert Ringel gestaltet seit vielen Jahre
 n unterschiedliche Formate schulischer MINT-Projekte am Humboldt-Gymnasium 
 in Radeberg. Er berichtet von seinen konzeptionellen Ansätzen und praktisch
 en Erfahrungen zur Gestaltung von GTA, Projektarbeiten und der Alpen-Expedi
 tion.</p>\n\n<p>Raum: Z 146a</p>\n\n<p>Auf Wunsch kann eine Teilnahmebestät
 igung ausgestellt werden.<br /><br />&nbsp;</p>
LOCATION:Hochschule für Technik und Wirtschaft Dresden (HTW Dresden) Zentralgebäude Friedrich-List-Platz 1 01069 Dresden
DTSTAMP:20260220T093024
DTSTART:20260305T150000
DTEND:20260305T163000
END:VEVENT
END:VCALENDAR