BEGIN:VCALENDAR
VERSION:2.0
PRODID:https://github.com/derhansen/sf_event_mgt
BEGIN:VTIMEZONE
TZID:CET
BEGIN:DAYLIGHT
TZOFFSETFROM:+0100
TZOFFSETTO:+0200
TZNAME:Central European Summer Time
DTSTART:20160327T020000
RRULE:FREQ=YEARLY;BYDAY=-1SU;BYMONTH=3
END:DAYLIGHT
BEGIN:STANDARD
TZOFFSETFROM:+0200
TZOFFSETTO:+0100
TZNAME:Central European Time
DTSTART:20161030T030000
RRULE:FREQ=YEARLY;BYDAY=-1SU;BYMONTH=10
END:STANDARD
END:VTIMEZONE
METHOD:PUBLISH
BEGIN:VEVENT
UID:3983-446@www.htw-dresden.de
CLASS: PUBLIC
SUMMARY:ESD-Test einer Elektronik – Phänomene verstehen und eliminieren
DESCRIPTION:<p><strong>217. Wissenschaftliches Seminar</strong></p>\n\n<p>D
 ie Empfindlichkeit von Elektronikbaugruppen gegenüber elektrostatischen Ent
 ladungen (ESD) hat sich in den letzten Jahren immer weiter erhöht. Die Ursa
 chen liegen in der Weiterentwicklung der IC-Technologie. Kleinere Strukturb
 reiten des Siliziums führen zu höheren Schaltgeschwindigkeiten und niedrige
 ren Schaltschwellen, was die Empfindlichkeit gegenüber ESD-Störvorgängen an
 steigen lässt. Liegt ein Störfestigkeitsproblem vor, ist häufig eine eingeh
 ende Analyse der gesamten Elektronik notwendig. Immer größere und komplexe 
 Projekte mit oftmals mehreren, ineinander verschachtelten elektronischen Ko
 mponenten (modularer Aufbau) erschweren das Lösen eines ESD-Problems und ne
 hmen deutlich mehr Zeit in Anspruch. Neben den Grundlagen der physikalische
 n Wirkmechanismen einer ESD-Entladung werden verschiedene Effekte und Auswi
 rkungen bei ESD-Tests anhand von Musterbaugruppen aufgezeigt.&nbsp;</p>\n\n
 <p><a href="t3://file?uid=55922" target="_blank">weitere Informationen</a> 
 <sup>PDF</sup></p>\n\n\n\n
LOCATION:Z 407
DTSTAMP:20260211T105846
DTSTART:20260414T153000
DTEND:20260414T170000
END:VEVENT
END:VCALENDAR