BEGIN:VCALENDAR
VERSION:2.0
PRODID:https://github.com/derhansen/sf_event_mgt
BEGIN:VTIMEZONE
TZID:CET
BEGIN:DAYLIGHT
TZOFFSETFROM:+0100
TZOFFSETTO:+0200
TZNAME:Central European Summer Time
DTSTART:20160327T020000
RRULE:FREQ=YEARLY;BYDAY=-1SU;BYMONTH=3
END:DAYLIGHT
BEGIN:STANDARD
TZOFFSETFROM:+0200
TZOFFSETTO:+0100
TZNAME:Central European Time
DTSTART:20161030T030000
RRULE:FREQ=YEARLY;BYDAY=-1SU;BYMONTH=10
END:STANDARD
END:VTIMEZONE
METHOD:PUBLISH
BEGIN:VEVENT
UID:4009-448@www.htw-dresden.de
CLASS: PUBLIC
SUMMARY:Ethische Reflexion generativer KI: Kriterien, Dilemmata und gesellschaftliche Treiber
DESCRIPTION:<p>Der Einsatz generativer KI wirft fundamentale ethische Frage
 n auf: Wer trägt Verantwortung für KI-generierte Entscheidungen? Wie kann D
 iskriminierung verhindert werden? Welche Rolle spielen Transparenz, Datensc
 hutz oder Nachhaltigkeit? In diesem Kurs stehen solche Fragen im Zentrum. D
 ie Teilnehmenden setzen sich diskursiv mit einer Auswahl etablierter ethisc
 her Kriterien auseinander – etwa Fairness, Autonomie, Verantwortung und epi
 stemische Gerechtigkeit.</p>\n\n<p>Ergänzend wird der Blick auf größere ges
 ellschaftliche Zusammenhänge gelenkt: Welche Interessen und Machtverhältnis
 se treiben die Entwicklung generativer KI voran? Wie wirken technologische 
 Narrative, wie etwa der Glaube an technologische Unausweichlichkeit (Techni
 kdeterminismus), auf unsere Entscheidungen?</p>\n\n<p>Der Kurs richtet sich
  an Lehrende und Hochschulakteure, die generative KI nicht nur verstehen, s
 ondern kritisch einordnen und verantwortungsvoll mitgestalten wollen.</p>\n
 \n<p>Kontakt:&nbsp;<strong> </strong><a href="mailto:antonella.ruggieri@htw
 -dresden.de">Dr. Antonella Ruggieri</a></p>
LOCATION:Online-Veranstaltung
DTSTAMP:20260302T175922
DTSTART:20260608T153000
DTEND:20260608T184500
END:VEVENT
END:VCALENDAR