BEGIN:VCALENDAR
VERSION:2.0
PRODID:https://github.com/derhansen/sf_event_mgt
BEGIN:VTIMEZONE
TZID:CET
BEGIN:DAYLIGHT
TZOFFSETFROM:+0100
TZOFFSETTO:+0200
TZNAME:Central European Summer Time
DTSTART:20160327T020000
RRULE:FREQ=YEARLY;BYDAY=-1SU;BYMONTH=3
END:DAYLIGHT
BEGIN:STANDARD
TZOFFSETFROM:+0200
TZOFFSETTO:+0100
TZNAME:Central European Time
DTSTART:20161030T030000
RRULE:FREQ=YEARLY;BYDAY=-1SU;BYMONTH=10
END:STANDARD
END:VTIMEZONE
METHOD:PUBLISH
BEGIN:VEVENT
UID:4061-442@www.htw-dresden.de
CLASS: PUBLIC
SUMMARY:For international students: 3Fs to Belonging Fear. Fluency. Fusion. (engl.)
DESCRIPTION:<p>This interactive workshop explores cultural integration in G
 ermany through the lived experience of an international researcher from Dre
 sden. The session examines the academic, social, and cultural realities for
 eign researchers encounter and invites participants to reflect on common ad
 aptation challenges. Together, we will discuss strategies for navigating Ge
 rman academic culture and developing cultural fluency without compromising 
 professional or personal identity. Breakout sessions provide space for exch
 ange, networking, and guided reflection with the facilitator.&nbsp;</p>\n\n
 <p><strong>Registration: </strong><a href="https://tu-dresden.de/studium/im
 -studium/career-service/termine/for-international-students-3fs-to-belonging
 -fear-fluency-fusion-engl?set_language=en"><strong>For international studen
 ts: 3Fs to Belonging Fear. Fluency. Fusion. (engl.) — Studies — TU Dresden<
 /strong></a></p>\n\n<p>or mailto: <a href="mailto:Birgit.Brand@tu-dresden.d
 e">Birgit.Brand@tu-dresden.de</a>&nbsp;</p>
LOCATION:Online
DTSTAMP:20260325T131303
DTSTART:20260422T100000
DTEND:20260422T123000
END:VEVENT
END:VCALENDAR