BEGIN:VCALENDAR
VERSION:2.0
PRODID:https://github.com/derhansen/sf_event_mgt
BEGIN:VTIMEZONE
TZID:CET
BEGIN:DAYLIGHT
TZOFFSETFROM:+0100
TZOFFSETTO:+0200
TZNAME:Central European Summer Time
DTSTART:20160327T020000
RRULE:FREQ=YEARLY;BYDAY=-1SU;BYMONTH=3
END:DAYLIGHT
BEGIN:STANDARD
TZOFFSETFROM:+0200
TZOFFSETTO:+0100
TZNAME:Central European Time
DTSTART:20161030T030000
RRULE:FREQ=YEARLY;BYDAY=-1SU;BYMONTH=10
END:STANDARD
END:VTIMEZONE
METHOD:PUBLISH
BEGIN:VEVENT
UID:2783-442@www.htw-dresden.de
CLASS: PUBLIC
SUMMARY:For International Students: Introduction into Project Management
DESCRIPTION:<p>Project management has been proven to be the most effective 
 method in business and scientific work. This intensive and hands-on course 
 gives you the skills to ensure your actual and prospective projects. You wi
 ll gain strong working knowledge of the basics of project management to be 
 applied immediately to effectively manage your (study, work, theses) projec
 ts. After the workshop, you will be able to identify and manage the product
  scope, build a work breakdown structure, create a project plan, define and
  allocate resources, manage the project development, identify and manage ri
 sks, and understand the project procurement process.</p>\n\n<p><strong>Onli
 ne Workshop I Zoom</strong></p>\n\n<p><strong>Registration: </strong><a hre
 f="https://tu-dresden.de/studium/im-studium/career-service/termine/for-inte
 rnational-students-introduction-into-project-management-engl" target="_blan
 k"><strong>HERE</strong></a><strong> or </strong>mailto<strong>&nbsp;</stro
 ng><a href="mailto:Birgit.Brand@tu-dresden.de" title="email Birgit Brand" t
 arget="_blank"><strong>Birgit.Brand@tu-dresden.de</strong></a></p>
LOCATION:Online
DTSTAMP:20260326T151144
DTSTART:20260609T090000
DTEND:20260609T150000
END:VEVENT
END:VCALENDAR