BEGIN:VCALENDAR
VERSION:2.0
PRODID:https://github.com/derhansen/sf_event_mgt
BEGIN:VTIMEZONE
TZID:CET
BEGIN:DAYLIGHT
TZOFFSETFROM:+0100
TZOFFSETTO:+0200
TZNAME:Central European Summer Time
DTSTART:20160327T020000
RRULE:FREQ=YEARLY;BYDAY=-1SU;BYMONTH=3
END:DAYLIGHT
BEGIN:STANDARD
TZOFFSETFROM:+0200
TZOFFSETTO:+0100
TZNAME:Central European Time
DTSTART:20161030T030000
RRULE:FREQ=YEARLY;BYDAY=-1SU;BYMONTH=10
END:STANDARD
END:VTIMEZONE
METHOD:PUBLISH
BEGIN:VEVENT
UID:2163-442@www.htw-dresden.de
CLASS: PUBLIC
SUMMARY:For international students: Job Market Saxony
DESCRIPTION:<p>Do you intent to start you career in Saxony after graduation
  but are in doubt about exciting positions with good career prospects? This
  workshop gives you an overview on industry sectors, companies and entry op
 tions. You will learn about the current situation of the job market in Saxo
 ny, salaries, and the advantages of working in SME. Find out about options 
 for your field of study in different industry sectors, effective research i
 nstruments and how to succeed in obtaining an interesting position.</p>\n\n
 <p><strong>Online (BBB)</strong></p>\n\n<p><strong>Registration: </strong><
 a href="https://tu-dresden.de/studium/im-studium/career-service/termine/for
 -international-students-job-market-saxony-engl" target="_blank"><strong>HER
 E</strong></a><strong> </strong>or mailto <a href="mailto:Birgit.Barand@tu-
 dresden.de">Birgit.Barand@tu-dresden.de</a><strong>&nbsp;</strong></p>\n\n\
 n\n
LOCATION:Online
DTSTAMP:20260326T151759
DTSTART:20260615T150000
DTEND:20260615T180000
END:VEVENT
END:VCALENDAR