BEGIN:VCALENDAR
VERSION:2.0
PRODID:https://github.com/derhansen/sf_event_mgt
BEGIN:VTIMEZONE
TZID:CET
BEGIN:DAYLIGHT
TZOFFSETFROM:+0100
TZOFFSETTO:+0200
TZNAME:Central European Summer Time
DTSTART:20160327T020000
RRULE:FREQ=YEARLY;BYDAY=-1SU;BYMONTH=3
END:DAYLIGHT
BEGIN:STANDARD
TZOFFSETFROM:+0200
TZOFFSETTO:+0100
TZNAME:Central European Time
DTSTART:20161030T030000
RRULE:FREQ=YEARLY;BYDAY=-1SU;BYMONTH=10
END:STANDARD
END:VTIMEZONE
METHOD:PUBLISH
BEGIN:VEVENT
UID:4026-2122@www.htw-dresden.de
CLASS: PUBLIC
SUMMARY:Führungskompass – Klarheit. Wirkung. Verantwortung.
DESCRIPTION:<p>Führung ist mehr als Position – sie ist Haltung.</p>\n\n<p><
 br />Was tun, wenn klare Ansagen nötig sind – aber auch Flexibilität gefrag
 t ist?<br />&nbsp;</p>\n\n<p>Im Workshop&nbsp;<i>Führungskompass</i>&nbsp;e
 ntwickelst du in 3:15 Stunden:<br />- einen Wertekompass, der dich in herau
 sfordernden Momenten leitet,<br />- ein Verhaltensrepertoire&nbsp;für Durch
 setzung und Flexibilität<br />- und einen Plan, um das Gelernte in deinen F
 ührungsalltag zu bringen.</p>\n\n<p>Kompakt. Praxisnah. Mit System.</p>
LOCATION:Z 621
DTSTAMP:20260309T103133
DTSTART:20260508T090000
DTEND:20260508T121500
END:VEVENT
END:VCALENDAR