BEGIN:VCALENDAR
VERSION:2.0
PRODID:https://github.com/derhansen/sf_event_mgt
BEGIN:VTIMEZONE
TZID:CET
BEGIN:DAYLIGHT
TZOFFSETFROM:+0100
TZOFFSETTO:+0200
TZNAME:Central European Summer Time
DTSTART:20160327T020000
RRULE:FREQ=YEARLY;BYDAY=-1SU;BYMONTH=3
END:DAYLIGHT
BEGIN:STANDARD
TZOFFSETFROM:+0200
TZOFFSETTO:+0100
TZNAME:Central European Time
DTSTART:20161030T030000
RRULE:FREQ=YEARLY;BYDAY=-1SU;BYMONTH=10
END:STANDARD
END:VTIMEZONE
METHOD:PUBLISH
BEGIN:VEVENT
UID:3899-3003@www.htw-dresden.de
CLASS: PUBLIC
SUMMARY:Future Skills 2030 - Thinking before Solving
DESCRIPTION:<p>Diese Veranstaltung ist Teil der Reihe: MINT vernetzt - Aust
 ausch zwischen Schule, Hochschule und Gesellschaft und richtet sich an Lehr
 kräfte der MINT-Fächer.</p>\n\n<p>Welche fachübergreifenden Kompetenzanford
 erungen ergeben sich aus einer zunehmend komplexen und dynamischen Entwickl
 ung in Wissenschaft und Technik?</p>\n\n<p>Uwe Wieland ist Projektleiter be
 i Volkswagen, Honorar-Professor für Informatik an der HTWD und Mitglied im 
 deutschen Forschungsbeirat Industrie 4.0 - wir freuen uns auf einen multipe
 rspektivischen, anwendungsbezogen Ausblick auf die Schlüsselkompetenzen der
  Zukunft.</p>\n\n<p>Raum: folgt</p>\n\n<p>Auf Wunsch kann eine Teilnahmebes
 tätigung ausgestellt werden.<br /><br />&nbsp;</p>
LOCATION:Hochschule für Technik und Wirtschaft Dresden (HTW Dresden) Zentralgebäude Friedrich-List-Platz 1 01069 Dresden
DTSTAMP:20251205T112451
DTSTART:20261112T150000
DTEND:20261112T163000
END:VEVENT
END:VCALENDAR