BEGIN:VCALENDAR
VERSION:2.0
PRODID:https://github.com/derhansen/sf_event_mgt
BEGIN:VTIMEZONE
TZID:CET
BEGIN:DAYLIGHT
TZOFFSETFROM:+0100
TZOFFSETTO:+0200
TZNAME:Central European Summer Time
DTSTART:20160327T020000
RRULE:FREQ=YEARLY;BYDAY=-1SU;BYMONTH=3
END:DAYLIGHT
BEGIN:STANDARD
TZOFFSETFROM:+0200
TZOFFSETTO:+0100
TZNAME:Central European Time
DTSTART:20161030T030000
RRULE:FREQ=YEARLY;BYDAY=-1SU;BYMONTH=10
END:STANDARD
END:VTIMEZONE
METHOD:PUBLISH
BEGIN:VEVENT
UID:4065-442@www.htw-dresden.de
CLASS: PUBLIC
SUMMARY:Germans are weird… or just different? Decoding Germany’s very own logic.
DESCRIPTION:<p>From paperwork to people and politics, Germany can feel comp
 licated. If this country puzzles you at times, you’re not alone — this work
 shop will help you understand why things here work the way they do.<br />Th
 e lecturer was born and raised in the Netherlands and is now based in Berli
 n. Since 2010, he’s been working as an independent professional in cultural
  and heritage tourism, and creates projects at the intersection of non-form
 al adult education and educational travel. He is purpose-driven, guided by 
 the belief that lifelong learning and cultural exchange — when done well — 
 can inspire meaningfully.</p>\n\n<p><strong>Online Workshop (Zoom)</strong>
 </p>\n\n<p><strong>Registration: </strong><a href="https://tu-dresden.de/st
 udium/im-studium/career-service/termine/for-international-students-germans-
 are-weird-or-just-different-decoding-germany2019s-very-own-logic-engl?set_l
 anguage=en"><strong>For international students: Germans are weird… or just 
 different? Decoding Germany’s very own logic. (engl.) — Studies — TU Dresde
 n</strong></a></p>\n\n\n\n
LOCATION:Online
DTSTAMP:20260326T144841
DTSTART:20260427T150000
DTEND:20260427T170000
END:VEVENT
END:VCALENDAR