BEGIN:VCALENDAR
VERSION:2.0
PRODID:https://github.com/derhansen/sf_event_mgt
BEGIN:VTIMEZONE
TZID:CET
BEGIN:DAYLIGHT
TZOFFSETFROM:+0100
TZOFFSETTO:+0200
TZNAME:Central European Summer Time
DTSTART:20160327T020000
RRULE:FREQ=YEARLY;BYDAY=-1SU;BYMONTH=3
END:DAYLIGHT
BEGIN:STANDARD
TZOFFSETFROM:+0200
TZOFFSETTO:+0100
TZNAME:Central European Time
DTSTART:20161030T030000
RRULE:FREQ=YEARLY;BYDAY=-1SU;BYMONTH=10
END:STANDARD
END:VTIMEZONE
METHOD:PUBLISH
BEGIN:VEVENT
UID:3866-442@www.htw-dresden.de
CLASS: PUBLIC
SUMMARY:Impulsvortrag: Geschwindigkeit schlägt Perfektion
DESCRIPTION:<p>Ein inspirierender, humorvoller und emotionaler Impuls darüb
 er, wie Studierende mehr erreichen, wenn sie Perfektionismus loslassen und 
 ins Handeln kommen. Der Vortrag stärkt Selbstpräsentation, Umsetzung, Mut u
 nd Persönlichkeit – zentrale Future Skills für Studium und Karriere.</p>\n\
 n<p>Nutzen für Studierende:<br />• bessere Selbstpräsentation in Bewerbunge
 n und Gesprächen<br />• mehr Mut, Ideen auszuprobieren und Projekte zu star
 ten<br />• effektiveres Arbeiten ohne Perfektionismus<br />• klarere Entsch
 eidungen und mehr innere Ruhe<br />• gesteigerte Umsetzungskraft, Kreativit
 ät und Wirkung<br />• mehr Selbstvertrauen durch frühes Handeln statt Warte
 n</p>\n\n<p>Der Impulsvortrag ist für HTWD-Studierende und HTWD-Mitarbeiten
 de kostenfrei. Studierende der TU Dresden können ebenfalls kostenfrei teiln
 ehmen, sollten Restplätze verfügbar sein.</p>\n\n<p>Der Vortrag wird <stron
 g>kostenfrei </strong>für HTWD-Studierende, HTWD-Absolventinnen und Absolve
 nten sowie Mitarbeitende der HTWD angeboten. <strong>Eine </strong><i><stro
 ng>verbindliche </strong></i><strong>Anmeldung im Veranstaltungskalender is
 t zwingend erforderlich! Bei Krankheit oder Verhinderung der Teilnahme meld
 en Sie sich bitte rechtzeitig vorab unter karriere[at]htw-dresden.de ab.&nb
 sp;</strong></p>\n\n<p>TUD-Studierende melden sich bitte unter karriere[at]
 htw-dresden.de an.</p>\n\n\n\n
LOCATION:S219
DTSTAMP:20260416T134751
DTSTART:20261103T153000
DTEND:20261103T161500
END:VEVENT
END:VCALENDAR