BEGIN:VCALENDAR
VERSION:2.0
PRODID:https://github.com/derhansen/sf_event_mgt
BEGIN:VTIMEZONE
TZID:CET
BEGIN:DAYLIGHT
TZOFFSETFROM:+0100
TZOFFSETTO:+0200
TZNAME:Central European Summer Time
DTSTART:20160327T020000
RRULE:FREQ=YEARLY;BYDAY=-1SU;BYMONTH=3
END:DAYLIGHT
BEGIN:STANDARD
TZOFFSETFROM:+0200
TZOFFSETTO:+0100
TZNAME:Central European Time
DTSTART:20161030T030000
RRULE:FREQ=YEARLY;BYDAY=-1SU;BYMONTH=10
END:STANDARD
END:VTIMEZONE
METHOD:PUBLISH
BEGIN:VEVENT
UID:4011-448@www.htw-dresden.de
CLASS: PUBLIC
SUMMARY:Gesunde Stimme, starke Präsenz: Praktische Tipps für Hochschullehrende
DESCRIPTION:<p>„Lehrende betreiben stimmlichen Hochleistungssport“ – ausgeh
 end von dieser These widmet sich der Workshop den besonderen Anforderungen 
 an die Stimme im Lehralltag. In Zusammenarbeit mit einer erfahrenen Logopäd
 in erhalten Sie Einblicke in die professionelle Stimmarbeit mit Berufssprec
 hern.</p>\n\n<p>Nach einer kompakten Einführung in die Funktion und Anatomi
 e der Stimme steht die Praxis im Mittelpunkt: Sie lernen, wie Sie Ihre Stim
 me durch gesunde Stimmhygiene, physiologische Atmung und klare Artikulation
  effektiv schonen und stärken können. Das Kennenlernen und Training praktis
 cher Übungen mit der Stimme und alltagstaugliche Techniken helfen Ihnen, Ih
 re Stimmkraft zu erhalten und langfristig fit für die Herausforderungen der
  Lehre zu bleiben.</p>\n\n<p>Durch diesen Workshop machen Sie Ihre Stimme z
 u einem verlässlichen Werkzeug für nachhaltiges, gesundes und überzeugendes
  Lehren.</p>\n\n<p>Kontakt:&nbsp;<strong> </strong><a href="mailto:antonell
 a.ruggieri@htw-dresden.de">Dr. Antonella Ruggieri</a></p>
LOCATION:Technische Universität Chemnitz (TU Chemnitz)
DTSTAMP:20260302T182020
DTSTART:20260924T093000
DTEND:20260924T130000
END:VEVENT
END:VCALENDAR