BEGIN:VCALENDAR
VERSION:2.0
PRODID:https://github.com/derhansen/sf_event_mgt
BEGIN:VTIMEZONE
TZID:CET
BEGIN:DAYLIGHT
TZOFFSETFROM:+0100
TZOFFSETTO:+0200
TZNAME:Central European Summer Time
DTSTART:20160327T020000
RRULE:FREQ=YEARLY;BYDAY=-1SU;BYMONTH=3
END:DAYLIGHT
BEGIN:STANDARD
TZOFFSETFROM:+0200
TZOFFSETTO:+0100
TZNAME:Central European Time
DTSTART:20161030T030000
RRULE:FREQ=YEARLY;BYDAY=-1SU;BYMONTH=10
END:STANDARD
END:VTIMEZONE
METHOD:PUBLISH
BEGIN:VEVENT
UID:4049-439@www.htw-dresden.de
CLASS: PUBLIC
SUMMARY:Gewerbliche Schutzrechte in der Praxis (Patent - Marke - Design) - Teil I - Patente und Gebrauchsmuster
DESCRIPTION:<p>Das Patentinformationszentrum (PIZ) des TUD|excite lädt<br /
 >zu den Vortrags- und Demonstrationsveranstaltungen im Rahmen der Reihe<br 
 /><strong>„Gewerbliche Schutzrechte in der Praxis (Patent - Marke - Design)
 “</strong><br /><br />mit den Teilen:</p>\n\n<p><strong>Teil I - Patente un
 d Gebrauchsmuster</strong><br /><strong>Die., 14.04.2026, 14:00 - 17:00 Uhr
 </strong><br /><a href="https://tu-dresden.de/forschung-transfer/transfer/e
 rfindungen-patente/patentinformationszentrum/termine/gewerbliche-schutzrech
 te-in-der-praxis-teil-ii-patentrecherche-20260422">Teil II - Patentrecherch
 en</a><br />Mi., 22.04.2026, 14:00 - 17:00 Uhr<br /><a href="https://tu-dre
 sden.de/forschung-transfer/transfer/erfindungen-patente/patentinformationsz
 entrum/termine/gewerbliche-schutzrechte-in-der-praxis-teil-iii-marken-und-d
 esigns-20260506">Teil III - Marken und Designs</a><br />Mi., 06.05.2026, 13
 :30 - 17:30 Uhr<br /><br />herzlich ein.</p>\n\n<p>Die Veranstaltungen werd
 en in regelmäßigen Abständen wiederholt, so dass jederzeit der noch fehlend
 e Teil nachgeholt werden kann.</p>\n\n<p>Hier finden Sie ein<a href="https:
 //tu-dresden.de/forschung-transfer/transfer/erfindungen-patente/patentinfor
 mationszentrum/ressourcen/dateien/Anmeldung_PIZ_Seminare_1-3_Fruehling-2026
 _Praesenz.pdf"> <strong>Anmelde-Formular</strong></a> für die Teile I bis I
 II!<br /><br /><i><strong>Teil I - Patente und Gebrauchsmuster</strong></i>
 <br />am Dienstag, 14. April 2026, 14:00 bis ca. 17:00 Uhr<br /><br /><stro
 ng>Referentin:</strong><br />Claudia Pohlandt, Leiterin und Rechercheurin i
 m Patentinformationszentrum des TUD|excite<br /><br /><strong>Inhalt:</stro
 ng><br />- Einführung in die technischen Schutzrechte<br />- Zeitlicher Abl
 auf des Patentverfahrens<br />- Schutzrechte im Ausland<br />- Technische S
 chutzrechte im In- und Ausland<br />- Aufbau einer Patentschrift<br />- Arb
 eitnehmererfindungen<br />- Förderungen<br />- Leistungen des PIZ</p>\n\n<p
 >Der Teil II am 22.04.2026 baut auf dieses Seminar auf und vermittelt dann 
 einen allgemeinen Überblick über die vielfältigen Möglichkeiten des Recherc
 hierens in Patenten und soll dazu dienen, eine optimale Recherchestrategie 
 bei Forschungs- und Entwicklungsarbeiten bzw. bei Patentanmeldungen planen 
 zu können.<br /><br />In den Veranstaltungsteilen können eigene Problemstel
 lungen und Themen eingebracht sowie ausgiebig Fragen gestellt werden. Eine 
 kleine Pause ist vorgesehen, die gern auch zu einem Erfahrungsaustausch gen
 utzt werden kann. Alle Teilnehmer:innen erhalten eine Teilnahmebestätigung.
 <br /><br /><strong>Anmeldung</strong><br />Um eine<a href="https://tu-dres
 den.de/forschung-transfer/transfer/erfindungen-patente/patentinformationsze
 ntrum/ressourcen/dateien/Anmeldung_PIZ_Seminare_1-3_Fruehling-2026_Praesenz
 .pdf"> <strong>schriftliche Voranmeldung</strong> </a>wird gebeten, da nur 
 eine begrenzte Teilnehmerzahl möglich ist.<br /><br />E-Mail: <a class="" h
 ref="mailto:piz@tu-dresden.de?subject=Anmeldung%20PIZ-Seminare%20Teile%201-
 3%20-%20Herbst%202016">piz(at)tu-dresden.de</a><br /><br /><strong>Kosten</
 strong><br />Es wird ein Kostenbeitrag in Höhe von 59,50 EUR (inkl. 19 % Mw
 St.) je Seminar-Teil erhoben.<br />Angehörige und Studierende der TU Dresde
 n sind von dem Kostenbeitrag befreit.<br /><br /><strong>Rückfragen:</stron
 g><br />Bianca Döhler<br />Tel.: 0351 463-32432<br /><a class="" href="mail
 to:bianca.doehler@tu-dresden.de?subject=Anmeldung%20PIZ-Seminare%20Teile%20
 1-3">bianca.doehler(at)tu-dresden.de</a></p>
DTSTAMP:20260316T123141
DTSTART:20260414T140000
DTEND:20260414T170000
END:VEVENT
END:VCALENDAR