BEGIN:VCALENDAR
VERSION:2.0
PRODID:https://github.com/derhansen/sf_event_mgt
BEGIN:VTIMEZONE
TZID:CET
BEGIN:DAYLIGHT
TZOFFSETFROM:+0100
TZOFFSETTO:+0200
TZNAME:Central European Summer Time
DTSTART:20160327T020000
RRULE:FREQ=YEARLY;BYDAY=-1SU;BYMONTH=3
END:DAYLIGHT
BEGIN:STANDARD
TZOFFSETFROM:+0200
TZOFFSETTO:+0100
TZNAME:Central European Time
DTSTART:20161030T030000
RRULE:FREQ=YEARLY;BYDAY=-1SU;BYMONTH=10
END:STANDARD
END:VTIMEZONE
METHOD:PUBLISH
BEGIN:VEVENT
UID:4050-439@www.htw-dresden.de
CLASS: PUBLIC
SUMMARY:Gewerbliche Schutzrechte in der Praxis (Patent - Marke - Design) - Teil II - Patentrecher­chen
DESCRIPTION:<p>Das Patentinformationszentrum (PIZ) des TUD|excite lädt<br /
 >zu den Vortrags- und Demonstrationsveranstaltungen im Rahmen der Reihe<br 
 /><strong>„Gewerbliche Schutzrechte in der Praxis (Patent - Marke - Design)
 “</strong><br /><br />mit den Teilen:</p>\n\n<p><a href="https://tu-dresden
 .de/forschung-transfer/transfer/erfindungen-patente/patentinformationszentr
 um/termine/gewerbliche-schutzrechte-in-der-praxis-teil-i-patent-gebrauchsmu
 ster-20260414">Teil I - Patente und Gebrauchsmuster</a><br />Die., 14.04.20
 26, 14:00 - 17:00 Uhr<br /><strong>Teil II - Patentrecherchen</strong><br /
 ><strong>Mi., 22.04.2026, 14:00 - 17:00 Uhr</strong><br /><a href="https://
 tu-dresden.de/forschung-transfer/transfer/erfindungen-patente/patentinforma
 tionszentrum/termine/gewerbliche-schutzrechte-in-der-praxis-teil-iii-marken
 -und-designs-20260506">Teil III - Marken und Designs</a><br />Mi., 06.05.20
 26, 13:30 - 17:30 Uhr</p>\n\n<p>herzlich ein.</p>\n\n<p>Die Veranstaltungen
  werden in regelmäßigen Abständen wiederholt, so dass jederzeit der noch fe
 hlende Teil nachgeholt werden kann.</p>\n\n<p>Hier finden Sie ein <a href="
 https://tu-dresden.de/forschung-transfer/transfer/erfindungen-patente/paten
 tinformationszentrum/ressourcen/dateien/Anmeldung_PIZ_Seminare_1-3_Fruehlin
 g-2026_Praesenz.pdf"><strong>Anmelde-Formular</strong></a> für die Teile I 
 bis III.</p>\n\n<p><i><strong>Teil II - Patentrecherchen</strong></i><br />
 am <strong>Mittwoch</strong>, 22. April 2026, 14:00 bis ca. 17:00 Uhr<br />
 <br />Bei dieser Kombination aus Seminar und Praktikum haben die Teilnehmer
 :innen die Gelegenheit, die verschiedenen Patentrecherchearten gleich prakt
 isch am PC selbst nachvollziehen zu können!<br /><br /><strong>Referentin:<
 /strong><br />Claudia Pohlandt, Leiterin, Patentingenieurin, Rechercheurin 
 am<br />Patentinformationszentrum des TUD|excite<br /><br /><strong>Inhalt:
 </strong><br />- internationale und nationale Patentklassifikations-Systeme
 <br />- Recherche-Strategien<br />- Sachrecherchen<br />- Namens-, Familien
 -, Patentstatistik- und Patentzitats-Recherchen<br />- Vor- und Nachteile v
 on freien und kommerziellen Patent-Datenbanken<br />- vielfältige Recherche
 -Beispiele einschließlich Demonstrationsrecherchen<br /><br />Bitte beachte
 n Sie, dass der Teil II auf dem vermittelten Wissen des Teils I aufbaut.<br
  /><br />In den Veranstaltungsteilen können eigene Problemstellungen und Th
 emen eingebracht sowie ausgiebig Fragen gestellt werden. Eine kleine Pause 
 ist vorgesehen, die gern auch zu einem Erfahrungsaustausch genutzt werden k
 ann. Alle Teilnehmer:innen erhalten eine Teilnahmebestätigung.<br /><br />I
 nformationen erhalten Sie unter Tel: 0351 463-32432<br /><br /><strong>Anme
 ldung</strong><br />Um eine<strong> </strong><a href="https://tu-dresden.de
 /forschung-transfer/transfer/erfindungen-patente/patentinformationszentrum/
 ressourcen/dateien/Anmeldung_PIZ_Seminare_1-3_Fruehling-2026_Praesenz.pdf">
 <strong>schriftliche Voranmeldung</strong></a><a href="https://tu-dresden.d
 e/forschung-transfer/transfer/erfindungen-patente/patentinformationszentrum
 /termine/resolveuid/4814cd8326b545efb29e4dcc9c0a2e57"> </a>wird gebeten, da
  nur eine begrenzte Teilnehmerzahl möglich ist.<br />E-Mail: <a class="" hr
 ef="mailto:piz@tu-dresden.de?subject=Anmeldung%20PIZ-Seminare%20Teile%201-3
 %20-%20Herbst%202016">piz(at)tu-dresden.de</a><br /><br /><strong>Kosten</s
 trong><br />Es wird ein Kostenbeitrag in Höhe von 59,50 EUR (inkl. 19 % MwS
 t.) je Seminar-Teil erhoben.<br />Angehörige und Studierende der TU Dresden
  sind von dem Kostenbeitrag befreit.</p>\n\n<p><strong>Rückfragen:</strong>
 <br />Claudia Pohlandt<br />Tel.: 0351 463-37854<br /><a class="" href="mai
 lto:claudia.pohlandt@tu-dresden.de?subject=Anmeldung%20PIZ-Seminar%20Teile%
 201%20-%203">claudia.pohlandt(at)tu-dresden.de</a></p>
DTSTAMP:20260316T123328
DTSTART:20260422T140000
DTEND:20260422T170000
END:VEVENT
END:VCALENDAR