BEGIN:VCALENDAR
VERSION:2.0
PRODID:https://github.com/derhansen/sf_event_mgt
BEGIN:VTIMEZONE
TZID:CET
BEGIN:DAYLIGHT
TZOFFSETFROM:+0100
TZOFFSETTO:+0200
TZNAME:Central European Summer Time
DTSTART:20160327T020000
RRULE:FREQ=YEARLY;BYDAY=-1SU;BYMONTH=3
END:DAYLIGHT
BEGIN:STANDARD
TZOFFSETFROM:+0200
TZOFFSETTO:+0100
TZNAME:Central European Time
DTSTART:20161030T030000
RRULE:FREQ=YEARLY;BYDAY=-1SU;BYMONTH=10
END:STANDARD
END:VTIMEZONE
METHOD:PUBLISH
BEGIN:VEVENT
UID:4051-439@www.htw-dresden.de
CLASS: PUBLIC
SUMMARY:Gewerbliche Schutzrechte in der Praxis (Patent - Marke - Design) - Teil III - Marken und Designs
DESCRIPTION:<p>Das Patentinformationszentrum (PIZ) des TUD|excite lädt<br /
 >zu den Vortrags- und Demonstrationsveranstaltungen im Rahmen der Reihe<br 
 /><strong>„Gewerbliche Schutzrechte in der Praxis (Patent - Marke - Design)
 “</strong><br /><br />mit den Teilen:</p>\n\n<p><a href="https://tu-dresden
 .de/forschung-transfer/transfer/erfindungen-patente/patentinformationszentr
 um/termine/gewerbliche-schutzrechte-in-der-praxis-teil-i-patent-gebrauchsmu
 ster-20260414">Teil I - Patente und Gebrauchsmuster</a><br />Die., 14.04.20
 26, 14:00 - 17:00 Uhr<br /><a href="https://tu-dresden.de/forschung-transfe
 r/transfer/erfindungen-patente/patentinformationszentrum/termine/gewerblich
 e-schutzrechte-in-der-praxis-teil-ii-patentrecherche-20260422">Teil II - Pa
 tentrecherchen</a><br />Mi., 22.04.2026, 14:00 - 17:00 Uhr<br /><strong>Tei
 l III - Marken und Designs</strong><br /><strong>Mi., 06.05.2026, 13:30 - 1
 7:30 Uhr</strong><br /><br />herzlich ein.<br /><br />Die Veranstaltungen w
 erden in regelmäßigen Abständen wiederholt, so dass jederzeit der noch fehl
 ende Teil nachgeholt werden kann.<br /><br />Hier finden Sie ein <a href="h
 ttps://tu-dresden.de/forschung-transfer/transfer/erfindungen-patente/patent
 informationszentrum/ressourcen/dateien/Anmeldung_PIZ_Seminare_1-3_Fruehling
 -2026_Praesenz.pdf"><strong>Anmelde-Formular</strong></a> für die Teile I b
 is III.<br /><br /><i><strong>Teil III - Marken und Designs</strong></i><br
  />Mittwoch, 06. Mai 2026, 13:30 bis ca. 17:30 Uhr<br /><br /><strong>Refer
 entin:</strong><br />Martina Traßl, Patentingenieurin, Rechercheurin am<br 
 />Patentinformationszentrum des TUD|excite<br /><br /><strong>Inhalt:</stro
 ng><br />- Schutzvoraussetzungen für Marken-und Design-Anmeldungen<br />- M
 arken- und Design-Anmeldungen im In- und Ausland<br />- Klassifikationssyst
 eme (Nizza-, Wiener, Locarno-Klassen)<br />- Marken- und Design-Recherchen<
 br />- freie und kommerzielle Datenbanken</p>\n\n<p>In den Veranstaltungste
 ilen können eigene Problemstellungen und Themen eingebracht sowie ausgiebig
  Fragen gestellt werden. Eine kleine Pause ist vorgesehen, die gern auch zu
  einem Erfahrungsaustausch genutzt werden kann. Alle Teilnehmer:innen erhal
 ten eine Teilnahmebestätigung.<br /><br />Informationen erhalten Sie unter 
 Tel: 0351 463-32432<br /><br /><strong>Anmeldung</strong><br />Um eine <a h
 ref="https://tu-dresden.de/forschung-transfer/transfer/erfindungen-patente/
 patentinformationszentrum/ressourcen/dateien/Anmeldung_PIZ_Seminare_1-3_Fru
 ehling-2026_Praesenz.pdf"><strong>schriftliche Voranmeldung</strong></a> wi
 rd gebeten, da nur eine begrenzte Teilnehmerzahl möglich ist.<br /><br />E-
 Mail: <a class="" href="mailto:piz@tu-dresden.de">piz(at)tu-dresden.de</a><
 br /><br /><strong>Kosten</strong><br />Es wird ein Kostenbeitrag in Höhe v
 on 59,50 EUR (inkl. 19 % MwSt.) je Seminar-Teil erhoben.&nbsp;<br />Angehör
 ige und Studierende der TU Dresden sind von dem Kostenbeitrag befreit.</p>\
 n\n<p><strong>Rückfragen:</strong><br />Martina Traßl<br />Tel.: 0351 463-3
 2265<br /><a class="" href="mailto:grit.hildebrandt@tu-dresden.de">martina.
 trassl(at)tu-dresden.de</a></p>
DTSTAMP:20260316T123514
DTSTART:20260506T133000
DTEND:20260506T173000
END:VEVENT
END:VCALENDAR