BEGIN:VCALENDAR
VERSION:2.0
PRODID:https://github.com/derhansen/sf_event_mgt
BEGIN:VTIMEZONE
TZID:CET
BEGIN:DAYLIGHT
TZOFFSETFROM:+0100
TZOFFSETTO:+0200
TZNAME:Central European Summer Time
DTSTART:20160327T020000
RRULE:FREQ=YEARLY;BYDAY=-1SU;BYMONTH=3
END:DAYLIGHT
BEGIN:STANDARD
TZOFFSETFROM:+0200
TZOFFSETTO:+0100
TZNAME:Central European Time
DTSTART:20161030T030000
RRULE:FREQ=YEARLY;BYDAY=-1SU;BYMONTH=10
END:STANDARD
END:VTIMEZONE
METHOD:PUBLISH
BEGIN:VEVENT
UID:4021-8738@www.htw-dresden.de
CLASS: PUBLIC
SUMMARY:Hochschulwahlen
DESCRIPTION:<p>Am 20. Mai 2026 finden die Hochschulwahlen im aktuellen Somm
 ersemester 2026 statt.</p>\n\n<p>Gewählt werden:</p>\n\n<ul><li>Senat (Stud
 ierende)</li><li>Erweiterter Senat (2 Hochschullehrer, Studierende)</li><li
 >Fakultätsräte (Studierende)</li><li>Wahl der/des Gleichstellungsbeauftragt
 en der Fakultät&nbsp;Design</li><li>Wahl der/des stellv. Gleichstellungsbea
 uftragten der Fakultät Wirtschaftswissenschaften</li><li>StuRa der HTWD&nbs
 p;</li></ul>\n\n<p>Die zugelassenen Wahlvorschläge finden Sie entweder auf 
 der <a href="https://www.htw-dresden.de/intern/uebergreifende-themen/selbst
 verwaltung/gremienwahlen" target="_blank">Webseite der Gremienwahlen</a> od
 er als Aushang im Schaukasten des Rektorates.</p>\n\n<p><u>Wahllokale:</u><
 /p>\n\n<ul><li>PAB im Zentralgebäude</li><li>Foyer Pillnitzer Platz 1&nbsp;
 <br>(für Wahlberechtigte der Fakultät Landbau/Umwelt/Chemie außer Chemieing
 enieurwesen)</li></ul>
DTSTAMP:20260304T131001
DTSTART:20260520T090000
DTEND:20260520T160000
END:VEVENT
END:VCALENDAR