BEGIN:VCALENDAR
VERSION:2.0
PRODID:https://github.com/derhansen/sf_event_mgt
BEGIN:VTIMEZONE
TZID:CET
BEGIN:DAYLIGHT
TZOFFSETFROM:+0100
TZOFFSETTO:+0200
TZNAME:Central European Summer Time
DTSTART:20160327T020000
RRULE:FREQ=YEARLY;BYDAY=-1SU;BYMONTH=3
END:DAYLIGHT
BEGIN:STANDARD
TZOFFSETFROM:+0200
TZOFFSETTO:+0100
TZNAME:Central European Time
DTSTART:20161030T030000
RRULE:FREQ=YEARLY;BYDAY=-1SU;BYMONTH=10
END:STANDARD
END:VTIMEZONE
METHOD:PUBLISH
BEGIN:VEVENT
UID:3926-439@www.htw-dresden.de
CLASS: PUBLIC
SUMMARY:How to? – Einkommensteuer und Gewinnermittlung 1
DESCRIPTION:<p>Langweilig, trocken, umständlich. Existenzgründer:innen sind
  vom Thema Buchhaltung und Steuern mitunter weniger begeistert.</p>\n\n<p>D
 ieser Workshop räumt mit den Vorurteilen auf, denn tatsächlich gehört beide
 s nun einmal zu einer erfolgreichen Unternehmensführung dazu.</p>\n\n<p>Mit
  <strong>vielen praktischen Beispielen</strong> stellt unser Gründungsexper
 te Heinrich Leuschner die <strong>relevanten gesetzlichen Grundlagen </stro
 ng>dar und baut eure Fragen gleich aktiv ins Seminar mit ein. Anhand indivi
 dueller Anliegen findet ihr gemeinsam die <strong>passende Lösung für die t
 äglichen Herausforderungen</strong> rund um eure Buchhaltung und Steuern un
 d könnt sowohl mit – als auch voneinander lernen.</p>\n\n<p><strong>Am Ende
  des Workshops seid ihr problemlos in der Lage:</strong></p>\n\n<ul><li>eue
 r Unternehmen beim Finanzamt anzumelden und dafür die richtige Gesellschaft
 sform zu wählen</li><li>das deutsche Steuersystem mit Einkommen-, Körpersch
 aft-, Umsatz- und Gewerbesteuer grundlegend zu verstehen</li><li>den Gewinn
  zu ermitteln und die Erstellung der betrieblichen Buchhaltung nachvollzieh
 en zu können</li></ul>\n\n<p><strong>Zielgruppe:</strong> Das Seminar richt
 et sich an <strong>Existenzgründer:innen (Freiberufler:innen, Gewerbetreibe
 nde, ausgründende Wissenschaftler:innen)</strong> und ist kostenfrei. Teiln
 ehmen können Studierende, Alumni, Wissenschaftler:innen und Beschäftigte de
 r <a href="https://www.dresden-exists.de/uber-dresden-exists/fokus/" target
 ="_blank" rel="noreferrer"><u>Partnereinrichtungen im Verbund von dresdenIe
 xists</u></a>.</p>\n\n<p><strong>Die Teilnahme ist kostenfrei, die Veransta
 ltung findet sowohl </strong><a href="https://www.htw-dresden.de/gruendung"
  title="HTW-Gründungsschmiede " target="_blank"><strong>live in der HTW-Grü
 ndungsschmied</strong></a><strong>e als auch online statt. Den Link zum Onl
 ine-Seminar erhaltet ihr nach der Anmeldung.</strong><br /><strong>Die Anme
 ldefrist endet am 05.05.2026 um 9 Uhr.</strong></p>
LOCATION:Digital über Zoom
DTSTAMP:20260318T104513
DTSTART:20260505T153000
DTEND:20260505T170000
END:VEVENT
END:VCALENDAR