BEGIN:VCALENDAR
VERSION:2.0
PRODID:https://github.com/derhansen/sf_event_mgt
BEGIN:VTIMEZONE
TZID:CET
BEGIN:DAYLIGHT
TZOFFSETFROM:+0100
TZOFFSETTO:+0200
TZNAME:Central European Summer Time
DTSTART:20160327T020000
RRULE:FREQ=YEARLY;BYDAY=-1SU;BYMONTH=3
END:DAYLIGHT
BEGIN:STANDARD
TZOFFSETFROM:+0200
TZOFFSETTO:+0100
TZNAME:Central European Time
DTSTART:20161030T030000
RRULE:FREQ=YEARLY;BYDAY=-1SU;BYMONTH=10
END:STANDARD
END:VTIMEZONE
METHOD:PUBLISH
BEGIN:VEVENT
UID:2149-439@www.htw-dresden.de
CLASS: PUBLIC
SUMMARY:How to start a Startup? - Gründungsorientierte Einführung in die BWL
DESCRIPTION:<p>Wie funktioniert ein Unternehmen? Wie gründet man ein Startu
 p? Was bedeutet eine berufliche Selbständigkeit?&nbsp;</p>\n\n<p>Diese Vorl
 esungsreihe richtet sich an alle Student:innen, die sich dafür interessiere
 n, wie ein Unternehmen aufgebaut ist und wie betriebswirtschaftliche Prozes
 se im Unternehmen funktionieren. Dazu liefern die Vorlesungen ein breites B
 asiswissen. Die Themen sind so gewählt, dass alle wesentlichen betriebswirt
 schaftlichen Bereiche abgedeckt sind, mit denen sich Existenzgründer und Un
 ternehmer auseinandersetzen müssen. Eine Teilnahme an der Vorlesungsreihe s
 etzt nicht voraus, dass Sie bereits selbständig tätig sind oder eine Existe
 nzgründung / Unternehmensnachfolge beabsichtigen.</p>\n\n<p>Die Veranstaltu
 ngen finden statt im Zeitraum 23.03.2022 - 06.07.2022 wöchentlich mittwochs
  von 17:00 bis 18:30 Uhr statt. Nach Besuch der Vorlesungsreihe wird ein Te
 ilnahmezertifikat ausgestellt.</p>\n\n<p>Weitere Infos und&nbsp; Anmeldung 
 in&nbsp;Opal unter: <a href="https://bildungsportal.sachsen.de/opal/auth/Re
 positoryEntry/22632595460?3">https://bildungsportal.sachsen.de/opal/auth/Re
 positoryEntry/22632595460?3</a></p>
LOCATION:wird bekannt gegeben
DTSTAMP:20220306T182719
DTSTART:20220406T170000
DTEND:20220406T183000
END:VEVENT
END:VCALENDAR