BEGIN:VCALENDAR
VERSION:2.0
PRODID:https://github.com/derhansen/sf_event_mgt
BEGIN:VTIMEZONE
TZID:CET
BEGIN:DAYLIGHT
TZOFFSETFROM:+0100
TZOFFSETTO:+0200
TZNAME:Central European Summer Time
DTSTART:20160327T020000
RRULE:FREQ=YEARLY;BYDAY=-1SU;BYMONTH=3
END:DAYLIGHT
BEGIN:STANDARD
TZOFFSETFROM:+0200
TZOFFSETTO:+0100
TZNAME:Central European Time
DTSTART:20161030T030000
RRULE:FREQ=YEARLY;BYDAY=-1SU;BYMONTH=10
END:STANDARD
END:VTIMEZONE
METHOD:PUBLISH
BEGIN:VEVENT
UID:3928-439@www.htw-dresden.de
CLASS: PUBLIC
SUMMARY:How to? – Unternehmensnachfolge, Unternehmensbewertung und Finanzierungsmöglichkeiten für Existenzgründer
DESCRIPTION:<p>Eine Unternehmensnachfolge kann eine attraktive Alternative 
 zur Neugründung sein – doch wie findet man das passende Unternehmen, bewert
 et den Kaufpreis und sichert die Finanzierung?</p>\n\n<p>Wer in die Fußstap
 fen eines bestehenden Unternehmens tritt, profitiert von einem aufgebauten 
 Kundenstamm, erfahrenen Mitarbeitenden und einer etablierten Marke. Gleichz
 eitig tauchen Begriffe wie M&amp;A, Share Deal, Asset Deal oder Due Diligen
 ce auf, die oft Verwirrung stiften.</p>\n\n<p>In diesem Seminar erfahrt ihr
 , wie ihr eine Unternehmensnachfolge strukturiert angeht und worauf es bei 
 der Bewertung und Finanzierung ankommt.</p>\n\n<p>Anhand praxisnaher Beispi
 ele vermittelt euch Heinrich Leuschner:</p>\n\n<ul><li>die <strong>Phasen e
 iner Unternehmensnachfolge</strong> – von der Planung bis zum Kaufvertrag,<
 /li><li>die <strong>Grundlagen der Unternehmensbewertung</strong> und Kaufp
 reisfindung,</li><li>verschiedene <strong>Finanzierungsmöglichkeiten</stron
 g> für Existenzgründer:innen.</li></ul>\n\n<p>Das Seminar bietet eine Misch
 ung aus Theorie und Praxis und gibt euch die Möglichkeit, eigene Fragen und
  Fälle einzubringen.</p>\n\n<p><strong>Zielgruppe:</strong> Das Seminar ric
 htet sich an angehende Existenzgründer:innen, Studierende mit Management-Am
 bitionen sowie alle, die sich mit Unternehmensnachfolge und -bewertung ause
 inandersetzen möchten.</p>\n\n<p><strong>Die Teilnahme ist kostenfrei, die 
 Veranstaltung findet sowohl </strong><a href="https://www.htw-dresden.de/gr
 uendung" title="HTW-Gründungsschmiede " target="_blank"><strong>live in der
  HTW-Gründungsschmied</strong></a><strong>e als auch online statt. Den Link
  erhaltet ihr nach der Anmeldung.&nbsp;</strong><br /><strong>Die Anmeldefr
 ist endet am 20.01.2026 um 9 Uhr.</strong></p>
LOCATION:Digital über Zoom
DTSTAMP:20260318T105217
DTSTART:20260623T153000
DTEND:20260623T170000
END:VEVENT
END:VCALENDAR