BEGIN:VCALENDAR
VERSION:2.0
PRODID:https://github.com/derhansen/sf_event_mgt
BEGIN:VTIMEZONE
TZID:CET
BEGIN:DAYLIGHT
TZOFFSETFROM:+0100
TZOFFSETTO:+0200
TZNAME:Central European Summer Time
DTSTART:20160327T020000
RRULE:FREQ=YEARLY;BYDAY=-1SU;BYMONTH=3
END:DAYLIGHT
BEGIN:STANDARD
TZOFFSETFROM:+0200
TZOFFSETTO:+0100
TZNAME:Central European Time
DTSTART:20161030T030000
RRULE:FREQ=YEARLY;BYDAY=-1SU;BYMONTH=10
END:STANDARD
END:VTIMEZONE
METHOD:PUBLISH
BEGIN:VEVENT
UID:1547-2833@www.htw-dresden.de
CLASS: PUBLIC
SUMMARY:HTW Transfertag 2021
DESCRIPTION:<p>Das Prorektorat Forschung &amp; Entwicklung und die Gründung
 sschmiede laden Sie zum HTW-Transfertag 2021 ein. Am 22.07.2021 ab 08.45 Uh
 r haben wir für Sie Beiträge rund um das Thema des Transfers von Forschungs
 ergebnissen vorbereitet.</p>\n\n<p>Das <strong>vollständige Programm</stron
 g> finden Sie auf der <a href="t3://page?uid=6617">Seite zum Transfertag&nb
 sp;im internen Bereich</a>.</p>\n\n<p>Die Veranstaltung richtet sich an all
 e Hochschulangehörige, insbesondere Wissenschaftler:innen und Promovierende
 . <strong>Eine Anmeldung ist erforderlich um alle Zugangslinks zu den einze
 lnen Angeboten zu erhalten. Die Anmeldung ist möglich nach Login&nbsp;im in
 ternen Bereich (untenstehender Button).&nbsp;&nbsp;</strong></p>\n\n<p>Wir 
 freuen uns auf Ihre Teilnahme!</p>
LOCATION:Online: Link wird nach Anmeldung bekanntgegeben
DTSTAMP:20210707T092451
DTSTART:20210722T084500
DTEND:20210722T160000
END:VEVENT
END:VCALENDAR