BEGIN:VCALENDAR
VERSION:2.0
PRODID:https://github.com/derhansen/sf_event_mgt
BEGIN:VTIMEZONE
TZID:CET
BEGIN:DAYLIGHT
TZOFFSETFROM:+0100
TZOFFSETTO:+0200
TZNAME:Central European Summer Time
DTSTART:20160327T020000
RRULE:FREQ=YEARLY;BYDAY=-1SU;BYMONTH=3
END:DAYLIGHT
BEGIN:STANDARD
TZOFFSETFROM:+0200
TZOFFSETTO:+0100
TZNAME:Central European Time
DTSTART:20161030T030000
RRULE:FREQ=YEARLY;BYDAY=-1SU;BYMONTH=10
END:STANDARD
END:VTIMEZONE
METHOD:PUBLISH
BEGIN:VEVENT
UID:3708-4130@www.htw-dresden.de
CLASS: PUBLIC
SUMMARY:HTWD Stadtradeln ab 01. September
DESCRIPTION:<p>Ziel der bundesweiten Aktion ist es über einen Zeitraum von 
 21 Tagen möglichst viele Kilometer mit dem Fahrrad zurück zu legen und dami
 t ein Zeichen für nachhaltige Mobilität zu setzen, CO₂ zu vermeiden und auf
  die Bedürfnisse der Radfahrenden aufmerksam zu machen.<br /><br />Doch nic
 ht nur das Klima profitiert: auch die eigene Gesundheit!<br />Regelmäßiges 
 Radfahren stärkt das Herz-Kreislauf-System, verbessert die Ausdauer, förder
 t die Durchblutung und hebt die Stimmung. Bewegung an der frischen Luft wir
 kt stressreduzierend und kann sogar das Immunsystem stärken.<br /><strong>K
 urz gesagt: Stadtradeln verbindet Umweltbewusstsein mit aktiver Gesundheits
 förderung – und macht im Team gleich doppelt Spaß!</strong><br /><br />Meld
 en Sie sich <a href="https://www.stadtradeln.de/dresden">hier </a>für das T
 eam der HTW Dresden an und sammeln gemeinsam Kilometer.<br /><i>Sollten Sie
  Schwierigkeiten bei der Anmeldung haben, wenden Sie sich bitte an </i><a h
 ref="javascript:void(0);" title="mailto: nick.breuer@htw-dresden.de"><i>nic
 k.breuer@htw-dresden.de</i></a></p>
DTSTAMP:20260122T084104
DTSTART:20260901T070000
END:VEVENT
END:VCALENDAR