BEGIN:VCALENDAR
VERSION:2.0
PRODID:https://github.com/derhansen/sf_event_mgt
BEGIN:VTIMEZONE
TZID:CET
BEGIN:DAYLIGHT
TZOFFSETFROM:+0100
TZOFFSETTO:+0200
TZNAME:Central European Summer Time
DTSTART:20160327T020000
RRULE:FREQ=YEARLY;BYDAY=-1SU;BYMONTH=3
END:DAYLIGHT
BEGIN:STANDARD
TZOFFSETFROM:+0200
TZOFFSETTO:+0100
TZNAME:Central European Time
DTSTART:20161030T030000
RRULE:FREQ=YEARLY;BYDAY=-1SU;BYMONTH=10
END:STANDARD
END:VTIMEZONE
METHOD:PUBLISH
BEGIN:VEVENT
UID:4066-4130@www.htw-dresden.de
CLASS: PUBLIC
SUMMARY:Impfcheck durch die Betriebsärztin
DESCRIPTION:<p>Am Freitag, den <strong>17. April </strong>können Sie Ihren 
 Impfstatus durch unsere Betriebsärztin Frau Dr. Kemper überprüfen lassen.<b
 r />Bringen Sie einfach zwischen 08:00 - 10:00 Uhr Ihren Impfpass vorbei. A
 uch eine Reise-Impfberatung ist möglich.<br />&nbsp;</p>\n\n<p>Raum: S 531<
 br />Es ist keine Voranmeldung nötig.<br /><br />Von 10:00 - 12:00 Uhr könn
 en Sie individuelle Beratungstermine vor Ort (Campus Dresden) unter <a href
 ="javascript:void(0);" title="mailto: s.kemper@zags-dresden.de">s.kemper@za
 gs-dresden.de</a> anfragen.</p>
LOCATION:S 531
DTSTAMP:20260408T131304
DTSTART:20260417T080000
DTEND:20260417T100000
END:VEVENT
END:VCALENDAR