BEGIN:VCALENDAR
VERSION:2.0
PRODID:https://github.com/derhansen/sf_event_mgt
BEGIN:VTIMEZONE
TZID:CET
BEGIN:DAYLIGHT
TZOFFSETFROM:+0100
TZOFFSETTO:+0200
TZNAME:Central European Summer Time
DTSTART:20160327T020000
RRULE:FREQ=YEARLY;BYDAY=-1SU;BYMONTH=3
END:DAYLIGHT
BEGIN:STANDARD
TZOFFSETFROM:+0200
TZOFFSETTO:+0100
TZNAME:Central European Time
DTSTART:20161030T030000
RRULE:FREQ=YEARLY;BYDAY=-1SU;BYMONTH=10
END:STANDARD
END:VTIMEZONE
METHOD:PUBLISH
BEGIN:VEVENT
UID:3679-4130@www.htw-dresden.de
CLASS: PUBLIC
SUMMARY:Info-Session &quot;Health Insurance&quot; for new employees
DESCRIPTION:<p>With your move to Germany, many new things come your way, ra
 ising many questions.&nbsp;</p>\n\n<p>Since we know from experience that th
 e German social security system can be quite overwhelming. So we want to of
 fer you support here.</p>\n\n<p>Techniker Krankenkasse (TK), our partner, w
 ill advise you in an informative webinar (approx. 60 minutes) what you shou
 ld know about the German social security system.</p>\n\n<p>For example, you
  will get important information, such as&nbsp;<br />&nbsp;&nbsp;<br />- Wha
 t is the Social insurance system in Germany and what do I have to pay?&nbsp
 ;<br />- What can I actually do with my health insurance card in Germany an
 d what is covered?&nbsp;<br />- How do I find a doctor in Germany? And how 
 TK supports me, for example, in making appointments.&nbsp;</p>\n\n<p>Of cou
 rse, you also have the opportunity to ask your individual questions.&nbsp;<
 /p>\n\n<p>This webinar is conducted in English and is free of charge. Take 
 this opportunity and register now by clicking on the link below and find th
 e most convenient date for you:</p>\n\n<p><a href="https://online-terminver
 gabe-techniker.de/Portal/Event/8ITXAN">https://online-terminvergabe-technik
 er.de/Portal/Event/8ITXAN</a>&nbsp;</p>\n\n<p>If the registration page is d
 isplayed in German, change the language setting on the top right of the pag
 e. With a click on "List" in the section "Booking overview" you can see all
  future dates and register for one of them. Please keep in mind that you ha
 ve to confirm the desired date after your registration. You will receive an
  email for this purpose, which may also end&nbsp;</p>
DTSTAMP:20260317T131121
DTSTART:20260402T140000
DTEND:20260402T150000
END:VEVENT
END:VCALENDAR