BEGIN:VCALENDAR
VERSION:2.0
PRODID:https://github.com/derhansen/sf_event_mgt
BEGIN:VTIMEZONE
TZID:CET
BEGIN:DAYLIGHT
TZOFFSETFROM:+0100
TZOFFSETTO:+0200
TZNAME:Central European Summer Time
DTSTART:20160327T020000
RRULE:FREQ=YEARLY;BYDAY=-1SU;BYMONTH=3
END:DAYLIGHT
BEGIN:STANDARD
TZOFFSETFROM:+0200
TZOFFSETTO:+0100
TZNAME:Central European Time
DTSTART:20161030T030000
RRULE:FREQ=YEARLY;BYDAY=-1SU;BYMONTH=10
END:STANDARD
END:VTIMEZONE
METHOD:PUBLISH
BEGIN:VEVENT
UID:3334-3003@www.htw-dresden.de
CLASS: PUBLIC
SUMMARY:Info-Treffen Study Guide im Ehrenamt
DESCRIPTION:<p><strong>Wir suchen dich!</strong><br /><strong>Werde Study G
 uide im Ehrenamt.</strong><br />&nbsp;<br />Wir suchen Studierende, die bei
  2-4 Veranstaltungen pro Semester unterstützen, die Hochschule repräsentier
 en und über den Campus führen.</p>\n\n<p>✓ Macht sich gut in deinem Lebensl
 auf<br />✓ Wertvolle Kontakte im Netzwerk knüpfen<br />✓ Praktische Erfahru
 ngen sammeln</p>\n\n<p><strong>Interesse?</strong><br />Komm zum Info-Treff
 en am <strong>04.12.2025</strong> zwischen <strong>15:30–16:30 Uhr im Foyer
 , 9. Etage im Z-Gebäude </strong>vorbei und tausche dich mit anderen Ehrenä
 mtlern aus und finde heraus, ob es etwas für dich ist.<br />Oder schreib un
 s: <strong>studyguide@htw-dresden.de</strong></p>
DTSTAMP:20251124T133333
DTSTART:20251204T153000
DTEND:20251204T163000
END:VEVENT
END:VCALENDAR