BEGIN:VCALENDAR
VERSION:2.0
PRODID:https://github.com/derhansen/sf_event_mgt
BEGIN:VTIMEZONE
TZID:CET
BEGIN:DAYLIGHT
TZOFFSETFROM:+0100
TZOFFSETTO:+0200
TZNAME:Central European Summer Time
DTSTART:20160327T020000
RRULE:FREQ=YEARLY;BYDAY=-1SU;BYMONTH=3
END:DAYLIGHT
BEGIN:STANDARD
TZOFFSETFROM:+0200
TZOFFSETTO:+0100
TZNAME:Central European Time
DTSTART:20161030T030000
RRULE:FREQ=YEARLY;BYDAY=-1SU;BYMONTH=10
END:STANDARD
END:VTIMEZONE
METHOD:PUBLISH
BEGIN:VEVENT
UID:3907-448@www.htw-dresden.de
CLASS: PUBLIC
SUMMARY:Innovativ Lehren – Studierende einladen, ermutigen und inspirieren
DESCRIPTION:<p>Lernen lässt sich nicht erzwingen, sondern entsteht in den K
 öpfen der Lernenden. Wer Lehre innovativ gestalten möchte, braucht daher me
 hr als gute Inhalte. Es geht darum, Lernräume zu schaffen, die Studierende 
 aktivieren, ermutigen und inspirieren. Der Kurs nähert sich diesem Anspruch
  aus einer systemisch-konstruktivistischen Perspektive und lädt Lehrende da
 zu ein, ihr eigenes Rollenverständnis, ihre Haltung und ihr didaktisches Re
 pertoire zu reflektieren. Im Mittelpunkt stehen die Bedingungen, unter dene
 n Motivation, Begeisterung und Eigenaktivität von Studierenden gefördert we
 rden können.&nbsp;</p>\n\n<p>Bringen Sie gerne Materialien ihrer Lehrverans
 taltung mit.</p>\n\n<p>29.06.2026&nbsp;&nbsp;|&nbsp; 09:00—12:15 Uhr</p>\n\
 n<p>06.07.2026&nbsp;&nbsp;|&nbsp; 09:00—12:15 Uhr</p>\n\n\n\n<p><strong>Kon
 takt:&nbsp;</strong><a href="mailto:antonella.ruggieri@htw-dresden.de">Dr. 
 Antonella Ruggieri</a></p>
LOCATION:online
DTSTAMP:20260413T133441
DTSTART:20260629T090000
DTEND:20260706T121500
END:VEVENT
END:VCALENDAR