BEGIN:VCALENDAR
VERSION:2.0
PRODID:https://github.com/derhansen/sf_event_mgt
BEGIN:VTIMEZONE
TZID:CET
BEGIN:DAYLIGHT
TZOFFSETFROM:+0100
TZOFFSETTO:+0200
TZNAME:Central European Summer Time
DTSTART:20160327T020000
RRULE:FREQ=YEARLY;BYDAY=-1SU;BYMONTH=3
END:DAYLIGHT
BEGIN:STANDARD
TZOFFSETFROM:+0200
TZOFFSETTO:+0100
TZNAME:Central European Time
DTSTART:20161030T030000
RRULE:FREQ=YEARLY;BYDAY=-1SU;BYMONTH=10
END:STANDARD
END:VTIMEZONE
METHOD:PUBLISH
BEGIN:VEVENT
UID:3774-442@www.htw-dresden.de
CLASS: PUBLIC
SUMMARY:KI-basiertes Interview-Coaching
DESCRIPTION:<p>Wie gelingt ein überzeugendes Bewerbungsgespräch? Dieser 4-s
 tündige Workshop zeigt Studierenden, wie sie KI-Tools zur Vorbereitung und 
 Simulation von Interviews nutzen können. Die Teilnehmenden:</p>\n\n<ul><li>
 erstellen mit KI realistische Fragen,</li><li>trainieren ihre Antworten,</l
 i><li>erhalten Feedback zu Struktur und Ausdruck,</li><li>entwickeln mehr S
 icherheit im Auftreten.</li></ul>\n\n<p>Nach dem Workshop können die Teilne
 hmenden KI gezielt als Trainingspartner für Bewerbungsgespräche einsetzen.<
 /p>\n\n<p>Dieser Workshop findet in <strong>deutscher Sprache</strong> stat
 t.</p>\n\n<p><strong>Anmeldung: </strong><a href="https://bildungsportal.sa
 chsen.de/opal/auth/RepositoryEntry/44587810816/CourseNode/17581631499636440
 06?4" target="_blank"><strong>KI-basiertes Interview-Coaching</strong></a><
 /p>\n\n\n\n
LOCATION:TU Dresden, Fritz-Foerster-Bau Mommsenstraße 6, 01069 Dresden Raum 101
DTSTAMP:20250926T104132
DTSTART:20251208T130000
DTEND:20251208T170000
END:VEVENT
END:VCALENDAR