BEGIN:VCALENDAR
VERSION:2.0
PRODID:https://github.com/derhansen/sf_event_mgt
BEGIN:VTIMEZONE
TZID:CET
BEGIN:DAYLIGHT
TZOFFSETFROM:+0100
TZOFFSETTO:+0200
TZNAME:Central European Summer Time
DTSTART:20160327T020000
RRULE:FREQ=YEARLY;BYDAY=-1SU;BYMONTH=3
END:DAYLIGHT
BEGIN:STANDARD
TZOFFSETFROM:+0200
TZOFFSETTO:+0100
TZNAME:Central European Time
DTSTART:20161030T030000
RRULE:FREQ=YEARLY;BYDAY=-1SU;BYMONTH=10
END:STANDARD
END:VTIMEZONE
METHOD:PUBLISH
BEGIN:VEVENT
UID:3775-442@www.htw-dresden.de
CLASS: PUBLIC
SUMMARY:KI in der Anschreiben-Gestaltung und Lebenslaufanalyse
DESCRIPTION:<p>Wie formuliere ich ein Anschreiben, das überzeugt? Welche St
 ärken zeigt mein Lebenslauf – und wo kann ich ihn optimieren? In diesem Wor
 kshop erfahren Studierende, wie sie KI-Tools zur Unterstützung bei der Bewe
 rbungsvorbereitung nutzen können. Die Teilnehmenden:</p>\n\n<ul><li>entwick
 eln passgenaue Anschreiben mit KI,</li><li>erhalten Formulierungsvorschläge
  und Stilvarianten,</li><li>prüfen ihren Lebenslauf auf Stärken, Lücken und
  Verbesserungsmöglichkeiten,</li><li>lernen, wie sie KI-Ergebnisse kritisch
  reflektieren und anpassen.</li></ul>\n\n<p>Nach dem Workshop können die Te
 ilnehmenden KI als hilfreiches Tool für eine professionelle Bewerbungsstrat
 egie einsetzen.</p>\n\n<p>Dieser Workshop findet <strong>in deutscher Sprac
 he</strong> statt.</p>\n\n<p><strong>Anmeldung:</strong> <a href="https://b
 ildungsportal.sachsen.de/opal/auth/RepositoryEntry/44587810816/CourseNode/1
 758163149977520006?5" target="_blank">KI in der Anschreiben-Gestaltung und 
 Lebenslaufanalyse</a></p>\n\n\n\n
LOCATION:TU Dresden, Fritz-Foerster-Bau Mommsenstraße 6, 01069 Dresden Raum 101
DTSTAMP:20250926T104116
DTSTART:20251209T130000
DTEND:20251209T170000
END:VEVENT
END:VCALENDAR