BEGIN:VCALENDAR
VERSION:2.0
PRODID:https://github.com/derhansen/sf_event_mgt
BEGIN:VTIMEZONE
TZID:CET
BEGIN:DAYLIGHT
TZOFFSETFROM:+0100
TZOFFSETTO:+0200
TZNAME:Central European Summer Time
DTSTART:20160327T020000
RRULE:FREQ=YEARLY;BYDAY=-1SU;BYMONTH=3
END:DAYLIGHT
BEGIN:STANDARD
TZOFFSETFROM:+0200
TZOFFSETTO:+0100
TZNAME:Central European Time
DTSTART:20161030T030000
RRULE:FREQ=YEARLY;BYDAY=-1SU;BYMONTH=10
END:STANDARD
END:VTIMEZONE
METHOD:PUBLISH
BEGIN:VEVENT
UID:4070-448@www.htw-dresden.de
CLASS: PUBLIC
SUMMARY:Kollegialer Austausch: &quot;KI in Lehre und Studium&quot;
DESCRIPTION:<p>Der hochschulübergreifende kollegiale Austausch "KI in Lehre
  und Studium" bietet Lehrenden verschiedener Disziplinen die Möglichkeit, n
 iedrigschwellig aktuelle Fragen, didaktische Herausforderungen und gefunden
 e Lösungen zu diskutieren und praxisnah zu reflektieren.<br /><br />Das For
 mat ist explizit agendafrei, d. h. die Themen werden von den Teilnehmenden 
 in jedem Termin neu eingebracht und bestimmen den Fokus des Dialogs – z. B.
  von konkreten Anwendungsfällen von KI-Tools in Lehrveranstaltungen und Prü
 fungen, über die Personalisierung von Lernpfaden und die Integration von KI
 -Kompetenzen in Curricula, bis hin zur ethischen Bewertung von KI-Systemen.
 <br /><br />Ziel ist es, dass die Teilnehmenden einerseits konkrete Impulse
  aus unterschiedlichen Hochschulkontexten und disziplinären Perspektiven fü
 r die Gestaltung ihrer Lehre erhalten und andererseits eigene Bedarfe, Erfa
 hrungen oder Lösungsansätze einbringen. Durch die hochschuldidaktische Mode
 ration des Austauschprozesses entsteht ein Raum für strukturierte, praxisna
 he Reflexion sowie hochschul- und disziplinübergreifende Vernetzung.</p>\n\
 n\n\n<p>Kontakt: <a href="mailto:antonella.ruggieri@htw-dresden.de"><u>Dr. 
 Antonella Ruggieri</u></a></p>
LOCATION:online
DTSTAMP:20260331T125750
DTSTART:20260408T143000
DTEND:20260408T153000
END:VEVENT
END:VCALENDAR